BEGIN:VCALENDAR
VERSION:2.0
PRODID:-//ChamberMaster//Event Calendar 2.0//EN
METHOD:PUBLISH
X-PUBLISHED-TTL:P3D
REFRESH-INTERVAL:P3D
CALSCALE:GREGORIAN
BEGIN:VEVENT
DTSTART:20140424T210000Z
DTEND:20140424T230000Z
X-MICROSOFT-CDO-ALLDAYEVENT:FALSE
SUMMARY:20th Anniversary Open House
DESCRIPTION:Northern Physical Therapy (NPT) is celebrating their 20th year in business with an open house at their Grant clinic (17615 West Moore Road) on Thursday\, April 24 from 5:00 pm to 7:00  pm. Bring a friend and enjoy a casual evening of drinks\, desserts and giveaways\, along with a special spring sale. For one night only\, NPT will be offering many of their gift certificates\, services and products at 20% off\, this includes pool classes\, massage and personal fitness packages\, as well as custom foot orthotic fittings. Therapists who specialize in women?s health\, back pain\, and sports & fitness injuries will be on hand to inform and answer all of your questions related to these issues.\n\n\n\nRSVP by April 22 by contacting Northern Physical Therapy at 231.834.0208 or online at www.northernpts.com/rsvp. Northern Physical Therapy has 5 locations which offer physical\, occupational\, and aquatic therapy services\, as well as prevention and wellness services such as massage\, pool classes\, athletic training\, and functional capacity evaluations. Learn more at www.northernpts.com.
X-ALT-DESC;FMTTYPE=text/html:Northern Physical Therapy (NPT) is celebrating their 20th year in business with an open house at their Grant clinic (17615 West Moore Road) on Thursday\, April 24 from 5:00 pm to 7:00 &nbsp\;pm. Bring a friend and enjoy a casual evening of drinks\, desserts and giveaways\, along with a special spring sale. For one night only\, NPT will be offering many of their gift certificates\, services and products at 20% off\, this includes pool classes\, massage and personal fitness packages\, as well as custom foot orthotic fittings. Therapists who specialize in women?s health\, back pain\, and sports &amp\; fitness injuries will be on hand to inform and answer all of your questions related to these issues.<br />\n<br />\nRSVP by April 22 by contacting Northern Physical Therapy at 231.834.0208 or online at<a href="http://www.northernpts.com/rsvp">&nbsp\;www.northernpts.com/rsvp</a>. Northern Physical Therapy has 5 locations which offer physical\, occupational\, and aquatic therapy services\, as well as prevention and wellness services such as massage\, pool classes\, athletic training\, and functional capacity evaluations. Learn more at <a href="http://www.northernpts.com">www.northernpts.com</a>.
LOCATION:Northern Physical Therapy\, 17615 West Moore Road\, Grant
UID:e.1709.865
SEQUENCE:3
DTSTAMP:20260420T142159Z
URL:https://www.rivercountrychamber.com/events/details/20th-anniversary-open-house-04-24-2014-865
END:VEVENT

END:VCALENDAR
