BEGIN:VCALENDAR
VERSION:2.0
PRODID:-//ChamberMaster//Event Calendar 2.0//EN
METHOD:PUBLISH
X-PUBLISHED-TTL:P3D
REFRESH-INTERVAL:P3D
CALSCALE:GREGORIAN
BEGIN:VEVENT
DTSTART:20131102T130000Z
DTEND:20131102T190000Z
X-MICROSOFT-CDO-ALLDAYEVENT:FALSE
SUMMARY:24th Annual Holiday Open House
DESCRIPTION:Celebrate the\n\n\n\nHolidays with Flowers!\n\n\n\nHoliday Open House\n\n\n\n\n\nSpecials throughout the store\n\n\n\n\n\nRefreshments!   Door Prizes!  \n\n\n\n\n\nHoliday Decorating Ideas!
X-ALT-DESC;FMTTYPE=text/html:<div style="text-align: center\;">&nbsp\;</div>\n\n<div style="text-align: center\;"><strong><span style="color:red\;"><span style="font-family:freestyle script\;"><span style="font-size:36.0pt\;">Celebrate&nbsp\;</span></span></span></strong><strong><span style="color:red\;"><span style="font-family:freestyle script\;"><span style="font-size:36.0pt\;">the</span></span></span></strong><br />\n<br />\n<strong><span style="color:red\;"><span style="font-family:freestyle script\;"><span style="font-size:36.0pt\;">Holidays with Flowers!</span></span></span></strong><br />\n<br />\n<strong><span style="color:green\;"><span style="font-family:freestyle script\;"><span style="font-size:36.0pt\;">Holiday Open House</span></span></span></strong><br />\n<br />\n<br />\n<strong><span style="color:green\;"><span style="font-family:freestyle script\;"><span style="font-size:36.0pt\;">Specials throughout the store</span></span></span></strong><br />\n<br />\n<br />\n<strong><span style="color:green\;"><span style="font-family:freestyle script\;"><span style="font-size:36.0pt\;">Refreshments!&nbsp\;&nbsp\; Door Prizes!&nbsp\; </span></span></span></strong><br />\n<br />\n<br />\n<span style="font-size:48px\;"><strong><span style="color:red\;"><span style="font-family:freestyle script\;">Holiday Decorating Ideas!</span></span></strong></span></div>\n
LOCATION:Mary Jane's Flowers 135 West State St Downtown Newaygo 231-652-4110
UID:e.1709.473
SEQUENCE:3
DTSTAMP:20260420T205801Z
URL:https://www.rivercountrychamber.com/events/details/24th-annual-holiday-open-house-11-02-2013-473
END:VEVENT

END:VCALENDAR
