BEGIN:VCALENDAR
VERSION:2.0
PRODID:-//ChamberMaster//Event Calendar 2.0//EN
METHOD:PUBLISH
X-PUBLISHED-TTL:P3D
REFRESH-INTERVAL:P3D
CALSCALE:GREGORIAN
BEGIN:VEVENT
DTSTART:20130824T160000Z
DTEND:20130824T190000Z
X-MICROSOFT-CDO-ALLDAYEVENT:FALSE
SUMMARY:4TH ANNUAL HORSESHOE TOURNAMENT
DESCRIPTION:Sandy Beach County Park's\n\n	4th Annual Horseshoe Tournament!\n\n	Saturday August 24th\, 2013\n\n	\n\n	$10 Registration Fee per Team or $5 per Person\n\n	Must register by NOON at the horseshoe pits & games start 1:00pm!\n\n	50/50 RAFFLE - Proceeds go to National MS Society\n\n	*Vehicle Permits are required to enter the park and are $6/day at the registration office*\n\n	www.facebook.com/NCParks
X-ALT-DESC;FMTTYPE=text/html:<div style="text-align: center">\n	<span style="font-family: verdana"><span style="font-size: 18px"><span style="color: #800000"><span style="font-size: 20px"><strong>Sandy Beach County Park&#39\;s<br />\n	4th Annual Horseshoe Tournament!</strong><br />\n	Saturday August 24th\, 2013</span></span><br />\n	<br />\n	$10 Registration Fee per Team or $5 per Person<br />\n	<span style="font-size: 16px">Must register by NOON at the horseshoe pits &amp\; games start 1:00pm!</span><br />\n	50/50 RAFFLE - Proceeds go to National MS Society<br />\n	<span style="font-size: 12px"><span style="font-size: 16px"><span style="color: #800000">*</span></span>Vehicle Permits are required to enter the park and are $6/day at the registration office<span style="font-size: 16px"><span style="color: #800000">*<br />\n	<span style="font-size: 18px"><a href="http://www.facebook.com/NCParks">www.facebook.com/NCParks</a></span></span></span></span></span></span><br />\n	&nbsp\;</div>\n
LOCATION:Sandy Beach County Park 6926 30th St. White Cloud\, MI 49349
UID:e.1709.270
SEQUENCE:3
DTSTAMP:20260421T005442Z
URL:https://www.rivercountrychamber.com/events/details/4th-annual-horseshoe-tournament-08-24-2013-270
END:VEVENT

END:VCALENDAR
