BEGIN:VCALENDAR
VERSION:2.0
PRODID:-//ChamberMaster//Event Calendar 2.0//EN
METHOD:PUBLISH
X-PUBLISHED-TTL:P3D
REFRESH-INTERVAL:P3D
CALSCALE:GREGORIAN
BEGIN:VEVENT
DTSTART:20220525T120000Z
DTEND:20220525T200000Z
X-MICROSOFT-CDO-ALLDAYEVENT:FALSE
SUMMARY:8th Annual Chamber Golf Outing 2022
DESCRIPTION:Join us for the 8th Annual River Country Chamber Golf Outing at Pilgrim's Run Golf Club. This is a 4-person Scramble. Men's\, Women's and Mixed Teams are welcome!  You do not need to be a Chamber Member or even good to participate. We're here to have fun\, network and enjoy a day out of the office!\n\n\n\nVOLUNTEER OPPORTUNITIES HERE\n\nSponsorship Opportunities Here
X-ALT-DESC;FMTTYPE=text/html:<span style="font-size: 16px\;">Join us for the </span><strong style="font-size: 16px\;">8th Annual River Country Chamber Golf Outing</strong><span style="font-size: 16px\;"> at Pilgrim&#39\;s Run Golf Club. This is a 4-person&nbsp\;Scramble. Men&#39\;s\, Women&#39\;s and Mixed Teams are welcome!&nbsp\; You do not need to be a Chamber Member or even good to participate. We&#39\;re here to have fun\, network and enjoy a day out of the office!</span><br />\n<br />\n<a href="https://signup.com/go/HVODXJy">VOLUNTEER OPPORTUNITIES HERE</a><br />\n<a href="https://chambermaster.blob.core.windows.net/userfiles/UserFiles/chambers/1709/File/Golf_Outing/2022/SpringGolfOutingSponsorship20222.pdf" style="font-size: 16px\;">Sponsorship Opportunities Here</a>
LOCATION:Pilgrim's Run Golf Club 11401 Newcosta Ave Pierson\, MI 49339
UID:e.1709.38720
SEQUENCE:3
DTSTAMP:20260422T081355Z
URL:https://www.rivercountrychamber.com/events/details/8th-annual-chamber-golf-outing-2022-38720
END:VEVENT

END:VCALENDAR
