BEGIN:VCALENDAR
VERSION:2.0
PRODID:-//ChamberMaster//Event Calendar 2.0//EN
METHOD:PUBLISH
X-PUBLISHED-TTL:P3D
REFRESH-INTERVAL:P3D
CALSCALE:GREGORIAN
BEGIN:VEVENT
DTSTART:20140426T203000Z
DTEND:20140427T010000Z
X-MICROSOFT-CDO-ALLDAYEVENT:FALSE
SUMMARY:Aaron Tippin Concert brought to you by the F.O.P.
DESCRIPTION:F.O.P Country Music Concert Starring: Aaron Tippin & Morgan Frazier Supports local law enforcement Programs
X-ALT-DESC;FMTTYPE=text/html:F.O.P Country Music Concert Starring: Aaron Tippin &amp\; Morgan Frazier Supports local law enforcement Programs
LOCATION:Grant Fine Arts Center
UID:e.1709.591
SEQUENCE:3
DTSTAMP:20260420T143155Z
URL:https://www.rivercountrychamber.com/events/details/aaron-tippin-concert-brought-to-you-by-the-f-o-p-04-26-2014-591
END:VEVENT

END:VCALENDAR
