BEGIN:VCALENDAR
VERSION:2.0
PRODID:-//ChamberMaster//Event Calendar 2.0//EN
METHOD:PUBLISH
X-PUBLISHED-TTL:P3D
REFRESH-INTERVAL:P3D
CALSCALE:GREGORIAN
BEGIN:VEVENT
DTSTART;VALUE=DATE:20250120
DTEND;VALUE=DATE:20250126
TRANSP:TRANSPARENT
X-MICROSOFT-CDO-ALLDAYEVENT:TRUE
SUMMARY:Adult Drop In Craft - DIY Bath Salts
DESCRIPTION:The Newaygo Library Adult Drop-In Craft for JANUARY will be DIY Bath Salts! All supplies will be available upstairs in the Local History Room during Library hours. QUANTITIES ARE LIMITED.\n\nAdults and Teens ONLY. LIMIT One Per Person. This is a Drop-In craft. Supplies are not available to make this at home.
X-ALT-DESC;FMTTYPE=text/html:The Newaygo Library Adult Drop-In Craft for JANUARY will be DIY Bath Salts! All supplies will be available upstairs in the Local History Room during Library hours. QUANTITIES ARE LIMITED.<br />\nAdults and Teens ONLY.&nbsp\;LIMIT One Per Person. This is a Drop-In craft. Supplies are not available to make this at home.&nbsp\;
LOCATION:
UID:e.1709.42083
SEQUENCE:3
DTSTAMP:20260424T075715Z
URL:https://www.rivercountrychamber.com/events/details/adult-drop-in-craft-diy-bath-salts-42083
END:VEVENT

END:VCALENDAR
