BEGIN:VCALENDAR
VERSION:2.0
PRODID:-//ChamberMaster//Event Calendar 2.0//EN
METHOD:PUBLISH
X-PUBLISHED-TTL:P3D
REFRESH-INTERVAL:P3D
CALSCALE:GREGORIAN
BEGIN:VEVENT
DTSTART;VALUE=DATE:20131126
DTEND;VALUE=DATE:20131127
TRANSP:TRANSPARENT
X-MICROSOFT-CDO-ALLDAYEVENT:TRUE
SUMMARY:ALL EVENTS CHRISTMAS for Croton-Hardy\, Grant\, Newaygo & White Cloud
DESCRIPTION:The River Country Chamber of Commerce of Newaygo County is pleased to announce the Santa News Network (SNN) has selected the River Country Chamber of Commerce Christmas Festival  to receive the "Most Favored Christmas Festival" award.  This highly coveted award is by given by Santa Claus through SNN to one festival each year that demonstrates the Spirit of Christmas and Heartfelt Joy that Christmas brings to all people.\n\nThe River Country Chamber of Commerce of Newaygo County is happy to present the Christmas Festival and the many activities and events that are held in Croton\, Grant\, Newaygo and White Cloud. Please check the following information and save the dates for a Christmas experience your family will not forget.\n\n\n\n\n\n\n\nDecember 14 additional events for Grant Community Christmas Party\n\n\n\nAdditional Activities include Christmas Cookie Decorating\, Children Crafts\, Games\, and Horse-Drawn Wagon Rides. Also the line about photos with Santa for same day pick-up should indicate that they are Free Photos with Santa\n\n \nCLICK HERE FOR A LIST OF AREA EVENTS \n\n\n\n * Our Members will also be adding events to our Events Calendar so don't forget to check back often.
X-ALT-DESC;FMTTYPE=text/html:<p class="MsoNormal"><br />\n<b><span americana="" style="font-size:22.0pt\;font-family:">T</span></b><b><span americana="" style="font-size:12.0pt\;font-family:">he River Country Chamber of Commerce of Newaygo County is pleased to announce the Santa News Network (SNN) has selected the River Country Chamber of Commerce Christmas Festival &nbsp\;to receive the &ldquo\;Most Favored Christmas Festival&rdquo\; award.&nbsp\; This highly coveted award is by given by Santa Claus through SNN to one festival each year that demonstrates the Spirit of Christmas and Heartfelt Joy that Christmas brings to all people.</span></b></p>\n\n<p class="MsoNormal"><b><span americana="" style="font-size:12.0pt\;font-family:">The River Country Chamber of Commerce of Newaygo County is happy to present the Christmas Festival and the many activities and events that are held in Croton\, Grant\, Newaygo and White Cloud. Please check the following information and save the dates for a Christmas experience your family will not forget.<br />\n<br />\n<br />\n<br />\nDecember 14 additional events for Grant Community Christmas Party</span></b><br />\n<br />\n<span style="color:#000000\;"><span style="font-family: Tahoma\, Geneva\, sans-serif\; font-size: 12px\; line-height: 14px\;">Additional Activities include Christmas Cookie Decorating\, Children Crafts\, Games\, and Horse-Drawn Wagon Rides. Also the line about photos with Santa for same day pick-up should indicate that they are Free Photos with Santa</span></span><br />\n<b><span americana="" style="font-size:12.0pt\;font-family:">&nbsp\;</span></b></p>\n<b><span americana="" style="font-size:12.0pt\;font-family:"><a href="http://cloud.chambermaster.com/userfiles/UserFiles/chambers/1709/File/CHRISTMAS_FESTIVAL/christmasfestivalflyerREVISED11.13.13.pdf">CLICK HERE FOR A LIST OF AREA EVENTS&nbsp\;</a></span></b><br />\n<br />\n<span style="font-size:14px\;"><strong><span style="color:red\;"><span style="font-family:americana bt\;">&nbsp\;* Our Members will also be adding events to our Events Calendar so don&#39\;t forget to check back often.&nbsp\;</span></span></strong></span>
LOCATION:The Communities of: Croton Hardy Grant Newaygo White Cloud
UID:e.1709.487
SEQUENCE:3
DTSTAMP:20260420T211017Z
URL:https://www.rivercountrychamber.com/events/details/all-events-christmas-for-croton-hardy-grant-newaygo-white-cloud-11-26-2013-487
END:VEVENT

END:VCALENDAR
