BEGIN:VCALENDAR
VERSION:2.0
PRODID:-//ChamberMaster//Event Calendar 2.0//EN
METHOD:PUBLISH
X-PUBLISHED-TTL:P3D
REFRESH-INTERVAL:P3D
CALSCALE:GREGORIAN
BEGIN:VEVENT
DTSTART:20140115T223000Z
DTEND:20140116T010000Z
X-MICROSOFT-CDO-ALLDAYEVENT:FALSE
SUMMARY:Annual Dinner River Country Chamber of Commerce Newaygo County
DESCRIPTION:It has been an amazing 2013\, and now it I is time to come together and celebrate!  Make plans now to attend the very first River Country Chamber of Commerce of Newaygo County Annual Dinner Meeting\, scheduled for January 15 at Northern Trails Restaurant.  Business Networking beings at 5:30 PM\, opening remarks will begin at 6:00 pm\, and 6:30 for dinner.  Please make reservations quickly\, as this event will sell out.\n\n\n\nThe annual meeting is a time for us to reflect on the past year and prepare for great things in our shared community for 2014.  It is a great time to see old friends and meet some new ones\, especially this year with our new larger chamber: This is an opportunity to network with business owners and influencers from areas outside your routine.  Please pass along this invitation to someone you might know that could benefit from this amazing opportunity.\n\n\n\nWe are also pleased to present a fabulous guest speaker for the evening.  Her name is Shari Berger\, owner and founder of Strategic Solutions for Growth.  Shari is an accomplished sales coach and trainer with over 30 years of experience in helping companies grow revenue and sales.  A small business owner herself\, she shares the "top 10 list" for growing your business\, understanding that you are busy each day working in your business.  Shari comes highly recommended to us\, and you won't want to miss what she has to say!\n\n\n\n\n\nMembership has its benefits...
X-ALT-DESC;FMTTYPE=text/html:<br />\n<span style="font-family: calibri\,sans-serif\;"><span style="font-size: 11pt\;"><em><strong><span style="font-size: 20px\;">It has been an amazing 2013</span></strong></em>\, and now it I is time to come together and celebrate!&nbsp\; Make plans now to attend the very first River Country Chamber of Commerce of Newaygo County Annual Dinner Meeting\, scheduled for January 15 at Northern Trails Restaurant. &nbsp\;Business Networking beings at 5:30 PM\, opening remarks will begin at 6:00 pm\, and 6:30 for dinner.&nbsp\; Please make reservations quickly\, as this event will sell out.</span></span><br />\n<br />\n<span style="font-family: calibri\,sans-serif\;"><span style="font-size: 11pt\;">The annual meeting is a time for us to reflect on the past year and prepare for great things in our shared community for 2014.&nbsp\; It is a great time to see old friends and meet some new ones\, especially this year with our new larger chamber: This is an opportunity to network with business owners and influencers from areas outside your routine. &nbsp\;Please pass along this invitation to someone you might know that could benefit from this amazing opportunity.</span></span><br />\n<br />\n<span style="font-family: calibri\,sans-serif\;"><span style="font-size: 11pt\;">We are also pleased to present a fabulous guest speaker for the evening.&nbsp\; Her name is Shari Berger\, owner and founder of Strategic Solutions for Growth.&nbsp\; Shari is an accomplished sales coach and trainer with over 30 years of experience in helping companies grow revenue and sales.&nbsp\; A small business owner herself\, she shares the &ldquo\;top 10 list&rdquo\; for growing your business\, understanding that you are busy each day working in your business.&nbsp\; Shari comes highly recommended to us\, and you won&rsquo\;t want to miss what she has to say!</span></span>\n\n<div style="text-align: center\;"><br />\n<br />\n<strong><em><span style="font-size: 16px\;">Membership has its benefits...</span></em></strong></div>\n<br />\n&nbsp\;
LOCATION:Northern Trails
UID:e.1709.556
SEQUENCE:3
DTSTAMP:20260420T181233Z
URL:https://www.rivercountrychamber.com/events/details/annual-dinner-river-country-chamber-of-commerce-newaygo-county-01-15-2014-556
END:VEVENT

END:VCALENDAR
