BEGIN:VCALENDAR
VERSION:2.0
PRODID:-//ChamberMaster//Event Calendar 2.0//EN
METHOD:PUBLISH
X-PUBLISHED-TTL:P3D
REFRESH-INTERVAL:P3D
CALSCALE:GREGORIAN
BEGIN:VEVENT
DTSTART:20140419T223000Z
DTEND:20140420T023000Z
X-MICROSOFT-CDO-ALLDAYEVENT:FALSE
SUMMARY:April in Paris Jazz\, Food\, and Wine Escape
DESCRIPTION:The River Stop Caf  is proud to present the " April in Paris"  Jazz\, Food\, and Wine Escape\, featuring a classic jazz piano trio with West Michigan powerhouse Randy Marsh on drums\, professor Steve Talaga on the piano\, and multi-instrumentalist bassist/saxophone artist Tom Lockwood on Saturday April 19th.  The trio will start around 7:00 PM and play until 11:00PM.  \n\n \nPlan on a selection of scrumptious Spring dinner specials\, wine and drink specials\, and fellow music lovers.  Let's chase winter out of Newaygo County once and for all in 2014!
X-ALT-DESC;FMTTYPE=text/html:<span font-size:="" mso-ansi-language:="" mso-bidi-font-family:="" mso-bidi-language:="" mso-fareast-font-family:="" mso-fareast-language:="" new="" style="line-height: 115%\; font-family: " times=""><font color="#000000">The River Stop Caf&eacute\; is proud to present the &ldquo\; April in Paris&rdquo\;<span style="mso-spacerun: yes\;">&nbsp\; </span>Jazz\, Food\, and Wine Escape\, featuring a classic jazz piano trio with West Michigan powerhouse Randy Marsh on drums\, professor Steve Talaga on the piano\, and multi-instrumentalist bassist/saxophone artist Tom Lockwood on Saturday April 19th.<span style="mso-spacerun: yes\;">&nbsp\; </span>The trio will start around 7:00 PM and play until 11:00PM.<span style="mso-spacerun: yes\;">&nbsp\; </span></font></span><br />\n&nbsp\;\n<p style="margin: 0in 0in 10pt\;"><span font-size:="" mso-ansi-language:="" mso-bidi-font-family:="" mso-bidi-language:="" mso-fareast-font-family:="" mso-fareast-language:="" new="" style="line-height: 115%\; font-family: " times=""><font color="#000000"><span style="mso-spacerun: yes\;"><span mso-ascii-font-family:="" mso-hansi-font-family:="" new="" style="mso-fareast-font-family: Calibri\; mso-bidi-font-family: " times="">Plan on a selection of scrumptious Spring dinner specials\, wine and drink specials\, and fellow music lovers.&nbsp\; Let&#39\;s&nbsp\;chase winter out of Newaygo County once and for all in 2014!</span></span></font></span></p>\n
LOCATION:River Stop Caf \, Downtown Newaygo
UID:e.1709.825
SEQUENCE:3
DTSTAMP:20260420T142956Z
URL:https://www.rivercountrychamber.com/events/details/april-in-paris-jazz-food-and-wine-escape-04-19-2014-825
END:VEVENT

END:VCALENDAR
