BEGIN:VCALENDAR
VERSION:2.0
PRODID:-//ChamberMaster//Event Calendar 2.0//EN
METHOD:PUBLISH
X-PUBLISHED-TTL:P3D
REFRESH-INTERVAL:P3D
CALSCALE:GREGORIAN
BEGIN:VEVENT
DTSTART:20140215T210000Z
DTEND:20140216T010000Z
X-MICROSOFT-CDO-ALLDAYEVENT:FALSE
SUMMARY:Asian Cooking at Gala Gourmet
DESCRIPTION:Saturday\, February 15: Asian Dishes. Learn to make basic stir fry as well as Thai Spring Rolls with Peanut Dipping Sauce\, Spicy Lettuce Wraps\, Mongolian Beef\, Sichuan Chicken with Peanuts\, Pork & Chinese Vegetables and Egg Drop Soup. Class begins at 4 PM
X-ALT-DESC;FMTTYPE=text/html:<span style="color: rgb(51\, 51\, 51)\; font-family: 'lucida grande'\, tahoma\, verdana\, arial\, sans-serif\; font-size: 13px\; line-height: 18px\;">Saturday\, February 15: Asian Dishes. Learn to make basic stir fry as well as Thai Spring Rolls with Peanut Dipping Sauce\, Spicy Lettuce Wraps\, Mongolian Beef\, Sichuan Chicken with Peanuts\, Pork &amp\; Chinese Vegetables and Egg Drop Soup. Class begins at 4 PM</span><br style="color: rgb(51\, 51\, 51)\; font-family: 'lucida grande'\, tahoma\, verdana\, arial\, sans-serif\; font-size: 13px\; line-height: 18px\;" />\n
LOCATION:Gala Gourmet Kitchen Shoppe
UID:e.1709.585
SEQUENCE:3
DTSTAMP:20260420T165303Z
URL:https://www.rivercountrychamber.com/events/details/asian-cooking-at-gala-gourmet-02-15-2014-585
END:VEVENT

END:VCALENDAR
