BEGIN:VCALENDAR
VERSION:2.0
PRODID:-//ChamberMaster//Event Calendar 2.0//EN
METHOD:PUBLISH
X-PUBLISHED-TTL:P3D
REFRESH-INTERVAL:P3D
CALSCALE:GREGORIAN
BEGIN:VEVENT
DTSTART:20140524T150000Z
DTEND:20140524T170000Z
X-MICROSOFT-CDO-ALLDAYEVENT:FALSE
SUMMARY:Author Expo - 4 Authors/4 Styles Comes to Croton Township Library
DESCRIPTION:Four local authors will present on their journey of writing and being published. The presentation will follow-up with a panel question and answer period. The four local authors are as follows: W.S. Gager - mystery Carol Woolworth Underhill - inspirational Joslyn Vaughn - romance Tess Grant - young adult paranormal
X-ALT-DESC;FMTTYPE=text/html:Four local authors will present on their journey of writing and being published. The presentation will follow-up with a panel question and answer period. The four local authors are as follows: W.S. Gager - mystery Carol Woolworth Underhill - inspirational Joslyn Vaughn - romance Tess Grant - young adult paranormal
LOCATION:Croton Township Library program room
UID:e.1709.893
SEQUENCE:3
DTSTAMP:20260420T142554Z
URL:https://www.rivercountrychamber.com/events/details/author-expo-4-authors-4-styles-comes-to-croton-township-library-05-24-2014-893
END:VEVENT

END:VCALENDAR
