BEGIN:VCALENDAR
VERSION:2.0
PRODID:-//ChamberMaster//Event Calendar 2.0//EN
METHOD:PUBLISH
X-PUBLISHED-TTL:P3D
REFRESH-INTERVAL:P3D
CALSCALE:GREGORIAN
BEGIN:VEVENT
DTSTART:20131117T130000Z
DTEND:20131117T160000Z
X-MICROSOFT-CDO-ALLDAYEVENT:FALSE
SUMMARY:AYCE Breakfast FUNDRAISER For Newaygo Bands at River City Pizza
DESCRIPTION:1st Annual -ALL YOU CAN EAT \n\n					BREAKFAST\, FUNDRAISER \n\n					For Newaygo Bands \n\n					\n\n					Deer Hunters\, Widows or anyone with an Empty Stomach\, Stop by and fill it up at River City Pizza\n\n					2 Days to choose from.\n\n					\n\n					November 16th and 17th 2013\n\n					Anytime Between 8 & 11 AM\n\n					\n\n					ONLY 7 BUCKS \n\n					*Suggested Donation!!! Kids 5 and under $4 Bucks\n\n					100% of all donations go to the Newaygo Band Boosters. \n\n					Brought to you by Generous donations from :\n\n					River City Pizza and Sysco\n\n					Normal Breakfast Bar with Extras\, Homemade Cinnamon Rolls\, Yogurt Parfaits\, Sweets and more.
X-ALT-DESC;FMTTYPE=text/html:<div>\n	&nbsp\;</div>\n<div>\n	<table cellpadding="0" cellspacing="0" class="uiGrid _51mz mvm" style="margin-top: 10px\; margin-bottom: 10px\; border: 0px\; border-collapse: collapse\; border-spacing: 0px\; color: rgb(51\, 51\, 51)\; font-family: 'lucida grande'\, tahoma\, verdana\, arial\, sans-serif\; font-size: 11px\; line-height: 14px\;">\n		<tbody>\n			<tr class="_51mx">\n				<td class="_51m- vTop _51mw" style="vertical-align: top\; padding-right: 0px\; padding-top: 0px\; padding-bottom: 0px\;">\n					<br />\n					<br />\n					<span itemprop="description"><span class="fsl" style="font-size: 13px\;">1st Annual -ALL YOU CAN EAT&nbsp\;<br />\n					BREAKFAST\, FUNDRAISER&nbsp\;<br />\n					For Newaygo Bands&nbsp\;<br />\n					<br />\n					Deer Hunters\, Widows or anyone with an Empty Stomach\, Stop by and fill it up at River City Pizza<br />\n					2 Days to choose from.<br />\n					<br />\n					November 16th and 17th 2013<br />\n					Anytime Between 8 &amp\; 11 AM<br />\n					<br />\n					ONLY 7 BUCKS&nbsp\;<br />\n					*Suggested Donation!!! Kids 5 and under $4 Bucks<br />\n					100% of all donations go to the Newaygo Band Boosters.&nbsp\;<br />\n					Brought to you by Generous donations from :<br />\n					<a data-hovercard="/ajax/hovercard/page.php?id=570623292948341&amp\;extragetparams=%7B%22directed_target_id%22%3A0%7D" href="https://www.facebook.com/pages/River-City-Pizza/570623292948341?directed_target_id=0" style="color: rgb(59\, 89\, 152)\; cursor: pointer\; text-decoration: none\;">River City Pizza</a>&nbsp\;and Sysco<br />\n					Normal Breakfast Bar with Extras\, Homemade Cinnamon Rolls\, Yogurt Parfaits\, Sweets and more.</span></span></td>\n			</tr>\n		</tbody>\n	</table>\n</div>\n<br />\n
LOCATION:River City Pizza 381 Adams St.\, Newaygo\, Michigan 49337
UID:e.1709.481
SEQUENCE:3
DTSTAMP:20260420T210526Z
URL:https://www.rivercountrychamber.com/events/details/ayce-breakfast-fundraiser-for-newaygo-bands-at-river-city-pizza-11-17-2013-481
END:VEVENT

END:VCALENDAR
