BEGIN:VCALENDAR
VERSION:2.0
PRODID:-//ChamberMaster//Event Calendar 2.0//EN
METHOD:PUBLISH
X-PUBLISHED-TTL:P3D
REFRESH-INTERVAL:P3D
CALSCALE:GREGORIAN
BEGIN:VEVENT
DTSTART:20140614T120000Z
DTEND:20140614T200000Z
X-MICROSOFT-CDO-ALLDAYEVENT:FALSE
SUMMARY:Band Boosters Yard Sale & Vendor Event\, Food Door prizes Free Admission
DESCRIPTION:Band Boosters Yard Sale & Vendor Event\, Food Door Prizes Free Admission\n\n\n\nSomething for Everyone \n\n\n\nMany Vendors\, Crafters and Food Vendors  will be there as well as others who will have there own Yard Sale Booths. \n\n\n\nCheck out the Bands Yard Sale at this event. Many items Donated including a vintage Train set with New in the box pieces\, Doll house furniture\,Clothing\, Books and many Many Various items will be in the Bands Yard sale portion of this.
X-ALT-DESC;FMTTYPE=text/html:Band Boosters Yard Sale &amp\; Vendor Event\, Food Door Prizes Free Admission<br />\n<br />\nSomething for Everyone&nbsp\;<br />\n<br />\nMany Vendors\, Crafters and Food Vendors &nbsp\;will be there as well as others who will have there own Yard Sale Booths.&nbsp\;<br />\n<br />\nCheck out the Bands Yard Sale at this event. Many items Donated including a vintage Train set with New in the box pieces\, Doll house furniture\,Clothing\, Books and many Many Various items will be in the Bands Yard sale portion of this.&nbsp\;
LOCATION:Newaygo Middle School
UID:e.1709.907
SEQUENCE:3
DTSTAMP:20260420T115129Z
URL:https://www.rivercountrychamber.com/events/details/band-boosters-yard-sale-vendor-event-food-door-prizes-free-admission-06-14-2014-907
END:VEVENT

END:VCALENDAR
