BEGIN:VCALENDAR
VERSION:2.0
PRODID:-//ChamberMaster//Event Calendar 2.0//EN
METHOD:PUBLISH
X-PUBLISHED-TTL:P3D
REFRESH-INTERVAL:P3D
CALSCALE:GREGORIAN
BEGIN:VEVENT
DTSTART:20130824T160000Z
DTEND:20130824T180000Z
X-MICROSOFT-CDO-ALLDAYEVENT:FALSE
SUMMARY:BBQ In The Park
DESCRIPTION:Free BBQ on Saturday\, August 24 Noon - 2:00 pm in Brooks Park Downtown Newaygo. Come and enjoy a burger or brat dinner that includes 2 sides and listen to contemporary Christian music and local talent from several local churches. \n\n\n\nThere will be raffle drawings every 30 minutes for door prizes. Grand prize is 30 minute free airplane ride.
X-ALT-DESC;FMTTYPE=text/html:<br />\n<span style="font-size:16px\;"><span style="color:#ff0000\;"><span style="font-size:22px\;">Free</span></span> BBQ on Saturday\, August&nbsp\;24 Noon - 2:00 pm in Brooks Park Downtown Newaygo. Come and enjoy a burger or brat dinner that includes 2 sides and listen to c</span><span style="font-size: 16px\;">ontemporary Christian music and local talent from several local churches.&nbsp\;</span><br />\n<br />\n<span style="font-size:16px\;">There will be raffle drawings every 30 minutes for door prizes. Grand prize is 30 minute free airplane ride.</span><br />\n<br />\n<br />\n
LOCATION:Brooks Park\, Downtown Newaygo Corner of Quarterline and M37
UID:e.1709.278
SEQUENCE:3
DTSTAMP:20260421T005226Z
URL:https://www.rivercountrychamber.com/events/details/bbq-in-the-park-08-24-2013-278
END:VEVENT

END:VCALENDAR
