BEGIN:VCALENDAR
VERSION:2.0
PRODID:-//ChamberMaster//Event Calendar 2.0//EN
METHOD:PUBLISH
X-PUBLISHED-TTL:P3D
REFRESH-INTERVAL:P3D
CALSCALE:GREGORIAN
BEGIN:VEVENT
DTSTART:20130811T010000Z
DTEND:20130811T060000Z
X-MICROSOFT-CDO-ALLDAYEVENT:FALSE
SUMMARY:Bimini Brothers / The Hype Concert
DESCRIPTION:An outdoor concert featuring a local favorites. The comedic rock style of the Bimini Brothers and a great stage performance of The Hype.
X-ALT-DESC;FMTTYPE=text/html:<span style="font-size:22px\;"><span style="font-family:arial\;">An outdoor concert featuring a local favorites. The comedic rock style of the Bimini Brothers and a great stage performance of The Hype.</span></span>
LOCATION:
UID:e.1709.54
SEQUENCE:3
DTSTAMP:20260421T005511Z
URL:https://www.rivercountrychamber.com/events/details/bimini-brothers-the-hype-concert-08-10-2013-54
END:VEVENT

END:VCALENDAR
