BEGIN:VCALENDAR
VERSION:2.0
PRODID:-//ChamberMaster//Event Calendar 2.0//EN
METHOD:PUBLISH
X-PUBLISHED-TTL:P3D
REFRESH-INTERVAL:P3D
CALSCALE:GREGORIAN
BEGIN:VEVENT
DTSTART:20211126T170000Z
DTEND:20211127T000000Z
X-MICROSOFT-CDO-ALLDAYEVENT:FALSE
SUMMARY:Black Friday!
DESCRIPTION:Shop Local\, Save Local! \n\nSupport our local businesses this Black Friday! \n\n\n\nShop late until 7pm in Downtown Newaygo!
X-ALT-DESC;FMTTYPE=text/html:<span style="font-size:22px\;"><strong>Shop Local\, Save Local!&nbsp\;<br />\nSupport our local businesses this Black Friday!&nbsp\;<br />\n<br />\nShop late until 7pm in Downtown Newaygo!</strong></span>
LOCATION:
UID:e.1709.38609
SEQUENCE:3
DTSTAMP:20260424T141609Z
URL:https://www.rivercountrychamber.com/events/details/black-friday-38609
END:VEVENT

END:VCALENDAR
