BEGIN:VCALENDAR
VERSION:2.0
PRODID:-//ChamberMaster//Event Calendar 2.0//EN
METHOD:PUBLISH
X-PUBLISHED-TTL:P3D
REFRESH-INTERVAL:P3D
CALSCALE:GREGORIAN
BEGIN:VEVENT
DTSTART:20211126T150000Z
DTEND:20211127T000000Z
X-MICROSOFT-CDO-ALLDAYEVENT:FALSE
SUMMARY:Black Friday Sales at Timbered Spirt!
DESCRIPTION:Get a jump start on your holiday shopping at Timbered Spirit\, unique gifts for your gift giving this season!  Join us for 20% off the entire store
X-ALT-DESC;FMTTYPE=text/html:Get a jump start on your holiday shopping at Timbered Spirit\, unique gifts for your gift giving this season!&nbsp\; Join us for 20% off the entire store&nbsp\;<br />\n<br />\n<br />\n&nbsp\;<iframe allow="autoplay\; clipboard-write\; encrypted-media\; picture-in-picture\; web-share" allowfullscreen="true" frameborder="0" height="591" scrolling="no" src="https://www.facebook.com/plugins/video.php?height=476&amp\;href=https%3A%2F%2Fwww.facebook.com%2F103009175411410%2Fvideos%2F3179574692274107%2F&amp\;show_text=true&amp\;width=312&amp\;t=1" style="border:none\;overflow:hidden" width="312"></iframe>
LOCATION:Downtown Newaygo 196 State Rd\, Newaygo MI 49337
UID:e.1709.38632
SEQUENCE:3
DTSTAMP:20260424T141846Z
URL:https://www.rivercountrychamber.com/events/details/black-friday-sales-at-timbered-spirt-38632
END:VEVENT

END:VCALENDAR
