BEGIN:VCALENDAR
VERSION:2.0
PRODID:-//ChamberMaster//Event Calendar 2.0//EN
METHOD:PUBLISH
X-PUBLISHED-TTL:P3D
REFRESH-INTERVAL:P3D
CALSCALE:GREGORIAN
BEGIN:VEVENT
DTSTART:20140425T213000Z
DTEND:20140426T020000Z
X-MICROSOFT-CDO-ALLDAYEVENT:FALSE
SUMMARY:Bowlapalooza 2014
DESCRIPTION:For many children\, their Big Brother or Big Sister represents the only consistent\, positive adult role model in their lives. Locally\, there are 26 kids\, or "littles"\, waiting to be matched with a "big". The first-ever Big Brothers Big Sisters Youth Outcomes Summary\, released in 2012\, substantiated that its mentoring programs have proven\, positive academic\, socio-emotional\, and behavioral outcomes for youth\, areas linked to high school graduation\, avoidance of juvenile delinquency and college or job readiness. That's a BIG impact!\n\n\n\nYou can make a difference in the life of a child\, and would you believe you can do so simply by bowling? "Bowlapalooza" brings teams of five bowlers together to bowl and have fun\, but most importantly\, to raise money that goes directly toward recruiting\, enrolling and pairing volunteers with children needing them most. The event is all about kids. The more donations bowlers raise\, the more children will benefit by having a Big Brother or Big Sister in their lives. Bowlapalooza is just about the easiest and most fun way to get involved.\n\n\n\nIt's easy to participate\, with a variety of dates and times for your convenience\;\n\n\n\nApril 25: 5:30   7:30 PM and 8:00 - 10:00 PM @ Fremont Lanes \n\nApril 26: 3:00 - 5:00 PM\, 5:30   7:30 PM\, and 8:00 - 10:00 PM (Super Salon Challenge) @ Fremont Lanes\n\nMay 2: 5:00 - 7:00 PM (Educators) and 7:30   9:30 PM @ Fremont Lanes\n\nMay 2: 5:30   7:30 PM\, and 8:00 - 10:00 PM @ Underdog Lanes\n\nMay 3: 3:00 - 5:00 PM\, and 5:30   7:30 PM @ Underdog Lanes \n\n\n\nApart from the great feelings you'll have for helping out a good cause\, there are also some great incentives for teams\, and individuals. Each bowler is asked to raise a minimum of $40\, and for every $40 raised participants will receive a raffle ticket to win great door prizes the night of the event. When bowlers raise $75 they will receive an awesome Bowlapalooza 2014 t-shirt. At $150\, bowlers will receive a roll-up fleece blanket\; perfect for picnics in the park and outdoor events! AND - the Prize for the Top Fundraiser is - A Casino Getaway! Indulge and enjoy yourself with a $150 gift card to FireKeepers Casino Hotel. Dine at one of their six restaurants\, visit Traders Blanket gift shop\, and stay at their four diamond hotel with luxurious amenities. Prize is awarded to the adult individual (21+) with the most donations collected and turned in at the time of bowl.\n\n\n\nYou can make a real difference in the lives of Newaygo County youth   and have a blast doing so. Teams can sign-up by contacting Lisa Daniell at (231) 652-1184\, or via email at ldaniell@truenorthservices.org. You can also register your team online at www.truenorthservices.org  and create an online fundraising page at http://www.firstgiving.com/truenorth/bowlapalooza2014
X-ALT-DESC;FMTTYPE=text/html:<span style="font-size:12px\;"><span style="font-family: myriad pro\,sans-serif\;">For many children\, their Big Brother or Big Sister represents the only consistent\, positive adult role model in their lives. Locally\, there are 26 kids\, or &ldquo\;littles&rdquo\;\, waiting to be matched with a &ldquo\;big&rdquo\;. </span><span style="font-family: myriad pro\,sans-serif\;">The first-ever Big Brothers Big Sisters Youth Outcomes Summary\, released in 2012\, substantiated that its mentoring programs have proven\, positive academic\, socio-emotional\, and behavioral outcomes for youth\, areas linked to high school graduation\, avoidance of juvenile delinquency and college or job readiness. That&rsquo\;s a BIG impact!</span><br />\n<br />\n<span style="font-family: myriad pro\,sans-serif\;">You can make a difference in the life of a child\, and would you believe you can do so simply by bowling? &ldquo\;Bowlapalooza&rdquo\; brings teams of five bowlers together to bowl and have fun\, but most importantly\, to raise money that goes directly toward recruiting\, enrolling and pairing volunteers with children needing them most. The event is all about kids. The more donations bowlers raise\, the more children will benefit by having a Big Brother or Big Sister in their lives. Bowlapalooza is just about the easiest and most fun way to get involved.</span><br />\n<br />\n<span style="font-family: myriad pro\,sans-serif\;">It&rsquo\;s easy to participate\, with a variety of dates and times for your convenience\;</span><br />\n<br />\n<strong><span style="font-family: myriad pro\,sans-serif\;">April 25: 5:30 &ndash\; 7:30 PM and 8:00 - 10:00 PM @ </span></strong><a href="https://www.facebook.com/pages/Fremont-Lanes-Inc/127320887301538" target="_blank"><span style="text-decoration: none\;"><span style="color: windowtext\;"><span style="font-family: myriad pro\,sans-serif\;">Fremont Lanes </span></span></span></a><br />\n<strong><span style="font-family: myriad pro\,sans-serif\;"><strong><span style="font-family: myriad pro\,sans-serif\;">April 26: 3:00 - 5:00 PM\, 5:30 &ndash\; 7:30 PM\, and 8:00 - 10:00 PM (Super Salon Challenge) @ Fremont Lanes</span></strong><br />\n<strong><span style="font-family: myriad pro\,sans-serif\;">May 2: 5:00 - 7:00 PM (Educators) and 7:30 &ndash\; 9:30 PM @ Fremont Lanes</span></strong></span><br />\n<strong><span style="font-family: myriad pro\,sans-serif\;">May 2: 5:30 &ndash\; 7:30 PM\, and 8:00 - 10:00 PM @ </span></strong></strong><a href="http://www.underdoglanes.com/" target="_blank"><span style="text-decoration: none\;"><span style="color: windowtext\;"><span style="font-family: myriad pro\,sans-serif\;">Underdog Lanes</span></span></span></a><br />\n<strong><span style="font-family: myriad pro\,sans-serif\;">May 3: 3:00 - 5:00 PM\, and 5:30 &ndash\; 7:30 PM @ Underdog Lanes </span></strong><br />\n<br />\n<span style="font-family: myriad pro\,sans-serif\;">Apart from the great feelings you&rsquo\;ll have for helping out a good cause\, there are also some great incentives for teams\, and individuals. Each bowler is asked to raise a minimum of $40\, and for every $40 raised participants will receive a raffle ticket to win great door prizes the night of the event. When bowlers raise $75 they will receive an awesome Bowlapalooza 2014 t-shirt. At $150\, bowlers will receive a roll-up fleece blanket\; perfect for picnics in the park and outdoor events! AND - the Prize for the Top Fundraiser is - <strong><span style="font-family: myriad pro\,sans-serif\;">A Casino Getaway! </span></strong></span>Indulge and enjoy yourself with a $150 gift card to <a href="http://www.firekeeperscasino.com/default/index.cfm" target="_blank"><span style="font-family: myriad pro\,sans-serif\;">FireKeepers Casino Hotel</span></a><span style="font-family: myriad pro\,sans-serif\;">. Dine at one of their six restaurants\, visit Traders Blanket gift shop\, and stay at their four diamond hotel with luxurious amenities. Prize is awarded to the adult individual (21+) with the most donations collected and turned in at the time of bowl.</span><br />\n<br />\n<span style="font-family: myriad pro\,sans-serif\;">You can make a real difference in the lives of Newaygo County youth &ndash\; and have a blast doing so. Teams can sign-up by contacting Lisa Daniell at (231) 652-1184\, or via email at ldaniell@truenorthservices.org. You can also register your team online at </span><a href="http://www.truenorthservices.org"><span style="font-family: myriad pro\,sans-serif\;">www.truenorthservices.org</span></a><span style="font-family: myriad pro\,sans-serif\;">&nbsp\; and create an online fundraising page at </span><a href="http://www.firstgiving.com/truenorth/bowlapalooza2014" target="_blank"><span style="font-family: myriad pro\,sans-serif\;">http://www.firstgiving.com/truenorth/bowlapalooza2014</span></a></span>
LOCATION:Fremont Lanes\, Fremont MI
UID:e.1709.846
SEQUENCE:3
DTSTAMP:20260420T153701Z
URL:https://www.rivercountrychamber.com/events/details/bowlapalooza-2014-04-25-2014-846
END:VEVENT

END:VCALENDAR
