BEGIN:VCALENDAR
VERSION:2.0
PRODID:-//ChamberMaster//Event Calendar 2.0//EN
METHOD:PUBLISH
X-PUBLISHED-TTL:P3D
REFRESH-INTERVAL:P3D
CALSCALE:GREGORIAN
BEGIN:VEVENT
DTSTART;VALUE=DATE:20140607
DTEND;VALUE=DATE:20140608
TRANSP:TRANSPARENT
X-MICROSOFT-CDO-ALLDAYEVENT:TRUE
SUMMARY:Brazilian 5-Course Dinner
DESCRIPTION:Gala Gourmet is super excited to be hosting our next Underground Dinner and Wine Tasting at the Armstrong Arabians facility on June 7.  Come join us for a Brazilian feast along with a South American Wine Tasting. \n\n \n\nThe setting for the dinner will be indoors at the Armstrong Arabian horse farm located Southwest of Fremont. In addition to fabulous Brazilian food and spectacular wines from Argentina\, Chile\, & Uruguay\, the evening will be filled with a tour of Ron & Laura's farm\, a special presentation of their world class Arabian horses as well as an introduction to their 2014 foals.  We also will have the pleasure of introducing you to  Joao Rodrigues\, horse trainer/owner of Rodrigues Training Center in Scottsdale\, AZ\, and his wife\, Annette.  Joao is a native Brazilian and comes from three generations of horsemen\, which include his grandfather\, and father.  Wines will be presented by Matt Foresman of US Wine & Imports and Jeff Reed of Alliance Beverage.\n\n \n\nCall or email us today to make your reservation. This event will have limited seating and reservations will be taken on a first-come\, first-serve basis. Price is $60 per person and you must secure your reservations with payment in advance.  Please see attachment for a sneak preview of the evening.
X-ALT-DESC;FMTTYPE=text/html:Gala Gourmet is super excited to be hosting our next Underground Dinner and Wine Tasting at the Armstrong Arabians facility on June 7.&nbsp\; Come join us for a Brazilian feast along with a South American Wine Tasting.&nbsp\;<br />\n&nbsp\;<br />\nThe setting for the dinner will be indoors at the Armstrong Arabian horse farm located Southwest of Fremont. In addition to fabulous Brazilian food and spectacular wines from Argentina\, Chile\, &amp\; Uruguay\, the evening will be filled with a tour of Ron &amp\; Laura&rsquo\;s farm\, a special presentation of their world class Arabian horses as well as an introduction to their 2014 foals.&nbsp\; We also will have the pleasure of introducing you to&nbsp\; Joao Rodrigues\, horse trainer/owner of Rodrigues Training Center in Scottsdale\, AZ\, and his wife\, Annette.&nbsp\; Joao is a native Brazilian and comes from three generations of horsemen\, which include his grandfather\, and father.&nbsp\; Wines will be presented by Matt Foresman of US Wine &amp\; Imports and Jeff Reed of Alliance Beverage.<br />\n&nbsp\;<br />\nCall or email us today to make your reservation. This event will have limited seating and reservations will be taken on a first-come\, first-serve basis. Price is $60 per person and you must secure your reservations with payment in advance.&nbsp\; Please see attachment for a sneak preview of the evening.
LOCATION:Armstrong Arabians Horse Facility\, 9450 S. Maple Island Rd. (South west of Fremont)
UID:e.1709.901
SEQUENCE:3
DTSTAMP:20260420T114516Z
URL:https://www.rivercountrychamber.com/events/details/brazilian-5-course-dinner-06-07-2014-901
END:VEVENT

END:VCALENDAR
