BEGIN:VCALENDAR
VERSION:2.0
PRODID:-//ChamberMaster//Event Calendar 2.0//EN
METHOD:PUBLISH
X-PUBLISHED-TTL:P3D
REFRESH-INTERVAL:P3D
CALSCALE:GREGORIAN
BEGIN:VEVENT
DTSTART;VALUE=DATE:20140628
DTEND;VALUE=DATE:20140629
TRANSP:TRANSPARENT
X-MICROSOFT-CDO-ALLDAYEVENT:TRUE
SUMMARY:Brews Bands & BBQ a RiverStock Event
DESCRIPTION:RiverStock's Brews\, Bands & BBQ festival features an entire day of mouth-watering BBQ\, an array of thirst-quenching beverages and an atmosphere that bring families together for much-loved foods and rockin' music.\n\n\nSaturday June 28 the park opens at 11:00 am to visitors.  This is a FREE event so come early and plan to spend the entire beautiful day with us\, live music with lots of great food and beverage\, including amazing BBQ and local brews.\n\n\n\nWe have lots of open space for lawn chairs\, blankets all throughout the Brews\, Bands & BBQ event area.  It really is a festival!\n\n\n\nNo need for tickets but be sure to add this one day event to your calendar!  \n\n\n\nGot BBQ?  The 2nd Annual Brews\, Bands & BBQ Amateur BBQ Competition is being held Saturday June 28 as a part of the Brews\, Bands & BBQ Festival.  CLICK HERE for more information\, rules and registration forms.  Cash Prizes for the judges choice and People's Choice get's bragging rights and a Trophy!!!  Register Today!\n\n\n\nStay tuned for the latest information on RiverStock's Brews\, Bands & BBQ festival by liking us on Facebook\, following us on Twitter.
X-ALT-DESC;FMTTYPE=text/html:<h2><span style="font-size:16px\;"><span style="font-family:tahoma\;"><strong>RiverStock&#39\;s Brews\, Bands &amp\; BBQ</strong> festival features an entire day of mouth-watering BBQ\, an array of thirst-quenching beverages and an atmosphere that bring families together for much-loved foods and rockin&#39\; music.</span></span></h2>\n<br />\n<span style="font-size:16px\;"><span style="font-family:tahoma\;"><strong><span style="color:#8B4513\;">Saturday June 28 the park opens at 11:00 am to visitors. </span></strong>&nbsp\;This is a FREE event so come early and plan to spend the entire beautiful day with us\, live music with lots of great food and beverage\, including amazing BBQ and local brews.<br />\n<br />\nWe have lots of open space for lawn chairs\, blankets all throughout the Brews\, Bands &amp\; BBQ event area. &nbsp\;It really is a festival!<br />\n<br />\nNo need for tickets but be sure to add this one day event to your calendar! &nbsp\;<br />\n<br />\n<span style="font-size:18px\;"><strong>Got BBQ?</strong></span> &nbsp\;The 2nd Annual Brews\, Bands &amp\; BBQ Amateur BBQ Competition is being held Saturday June 28 as a part of the Brews\, Bands &amp\; BBQ Festival. &nbsp\;<a href="http://cloud.chambermaster.com/userfiles/UserFiles/chambers/1709/File/RiverStock_Documents/2014/finalapplication4.7.14.pdf"><strong>CLICK HERE</strong> </a>for more information\, rules and registration forms. &nbsp\;Cash Prizes for the judges choice and People&#39\;s Choice get&#39\;s bragging rights and a Trophy!!! &nbsp\;Register Today!<br />\n<br />\nStay tuned for the latest information on&nbsp\;RiverStock&#39\;s Brews\, Bands &amp\; BBQ festival by liking us on<a href="https://www.facebook.com/RiverCountryChamber?ref=hl"><strong> Facebook</strong></a>\, following us on<a href="https://twitter.com/RiverCountryCC"><strong> Twitter</strong></a>.</span></span><br />\n<br />\n<br />\n&nbsp\;
LOCATION:Brooks Park - Downtown Newaygo
UID:e.1709.864
SEQUENCE:3
DTSTAMP:20260420T114709Z
URL:https://www.rivercountrychamber.com/events/details/brews-bands-bbq-a-riverstock-event-06-28-2014-864
END:VEVENT

END:VCALENDAR
