BEGIN:VCALENDAR
VERSION:2.0
PRODID:-//ChamberMaster//Event Calendar 2.0//EN
METHOD:PUBLISH
X-PUBLISHED-TTL:P3D
REFRESH-INTERVAL:P3D
CALSCALE:GREGORIAN
BEGIN:VEVENT
DTSTART:20260820T160000Z
DTEND:20260820T170000Z
X-MICROSOFT-CDO-ALLDAYEVENT:FALSE
SUMMARY:Business Resource Luncheon: Sales & Lead Generation
DESCRIPTION:Our Business Resource Luncheon is a series of hour-long lunch & learns designed to equip local small businesses with practical tools\, fresh ideas\, and meaningful connections. Each session features a new topic led by an experienced presenter\, focusing on the real challenges and opportunities that matter most to our business community. Enjoy a locally catered lunch while you learn\, engage\, and build the skills that help your business thrive.\n\n\n\nTopic: Sales & Lead Generation
X-ALT-DESC;FMTTYPE=text/html:<p data-end="597" data-start="162">Our Business Resource Luncheon&nbsp\;is a series of hour-long lunch &amp\; learns designed to equip local small businesses with practical tools\, fresh ideas\, and meaningful connections. Each session features a new topic led by an experienced presenter\, focusing on the real challenges and opportunities that matter most to our business community. Enjoy a locally catered&nbsp\;lunch while you learn\, engage\, and build the skills that help your business thrive.<br />\n<br />\nTopic: Sales &amp\; Lead Generation</p>\n
LOCATION:The Stream - 2nd floor 1 W State Road Newaygo\, MI 49337 ADA accessible venue
UID:e.1709.43053
SEQUENCE:3
DTSTAMP:20260424T181050Z
URL:https://www.rivercountrychamber.com/events/details/business-resource-luncheon-sales-lead-generation-43053
END:VEVENT

END:VCALENDAR
