BEGIN:VCALENDAR
VERSION:2.0
PRODID:-//ChamberMaster//Event Calendar 2.0//EN
METHOD:PUBLISH
X-PUBLISHED-TTL:P3D
REFRESH-INTERVAL:P3D
CALSCALE:GREGORIAN
BEGIN:VEVENT
DTSTART;VALUE=DATE:20131005
DTEND;VALUE=DATE:20131006
TRANSP:TRANSPARENT
X-MICROSOFT-CDO-ALLDAYEVENT:TRUE
SUMMARY:Buy Nearby Get Caught Blue-Handed Day
DESCRIPTION:Buy Nearby is a permanent\, year-round\, feel-good program designed to promote Michigan retail businesses and communities. It's designed to get everyone excited about the great places and great shops we have in Michigan and get shoppers committed to buying in Michigan.\n	\n		The campaign runs throughout the year and will be "celebrated" annually on the first Saturday in October. On October 5 this year\, advertising and media attention will focus on shoppers visiting and buying in nearby communities and stores. The theme for this year is "Get Caught Blue-Handed\," which reflects the blue Buy Nearby logo and is a play on the expression "get caught red-handed."\n	\n		Communities\, downtowns\, retail centers and retail stores are encouraged to offer special promotions\, events and incentives to make it a big local shopping day. The goal is to encourage consumers to "Get Caught Blue-Handed" on this day (and every day) by supporting local businesses.\n	\n		For more information contact buynearbymi@retailers.com or call 800.366.3699.
X-ALT-DESC;FMTTYPE=text/html:<div class="entry-content">\n	<p>\n		Buy Nearby is a permanent\, year-round\, feel-good program designed to promote Michigan retail businesses and communities. It&rsquo\;s designed to get everyone excited about the great places and great shops we have in Michigan and get shoppers committed to buying in Michigan.</p>\n	<p>\n		The campaign runs throughout the year and will be &ldquo\;celebrated&rdquo\; annually on the first Saturday in October. <strong>On October 5</strong> this year\, advertising and media attention will focus on shoppers visiting and buying in nearby communities and stores. The theme for this year is &ldquo\;<strong>Get Caught Blue-Handed</strong>\,&rdquo\; which reflects the blue Buy Nearby logo and is a play on the expression &ldquo\;get caught red-handed.&rdquo\;</p>\n	<p>\n		Communities\, downtowns\, retail centers and retail stores are encouraged to offer special promotions\, events and incentives to make it a big local shopping day. The goal is to encourage consumers to &ldquo\;Get Caught Blue-Handed&rdquo\; on this day (and every day) by supporting local businesses.</p>\n	<p>\n		For more information contact <a href="mailto:buynearbymi@retailers.com?subject=Buy%20Nearby%20Info">buynearbymi@retailers.com</a> or call 800.366.3699.</p>\n</div>\n
LOCATION:Retailers all across the state.
UID:e.1709.299
SEQUENCE:3
DTSTAMP:20260420T221826Z
URL:https://www.rivercountrychamber.com/events/details/buy-nearby-get-caught-blue-handed-day-10-05-2013-299
END:VEVENT

END:VCALENDAR
