BEGIN:VCALENDAR
VERSION:2.0
PRODID:-//ChamberMaster//Event Calendar 2.0//EN
METHOD:PUBLISH
X-PUBLISHED-TTL:P3D
REFRESH-INTERVAL:P3D
CALSCALE:GREGORIAN
BEGIN:VEVENT
DTSTART:20140208T180000Z
DTEND:20140208T203000Z
X-MICROSOFT-CDO-ALLDAYEVENT:FALSE
SUMMARY:Cabela's Kids Ice Camp
DESCRIPTION:CABELA'S KIDS ICE CAMP FEBRUARY 8TH\, 1:00 PM - 3:30 PM Free of charge\, open to all kids. . Each youth that attends the Kids Ice Camp will receive a free HT Enterprises Ice Rod and promotional items for their future ice fishing adventures. In class tutorial (Newaygo Middle School) 1:00pm - 2:00pm NAIFC Pro Staff will demonstration indoors in a classroom setting: Ice Safety\, Bait\, Equipment and Jigging. On Ice fishing (TBA) 2:00pm- 3:30 pm Parents must accompany their kids during the on ice portion of this event. The kids and parents will then be invited to fish with the NAIFC Pro Staff.  Equipment will be provided. This is an outdoor event\, please dress for the weather. This is an excellent opportunity to introduce a new way for kids to enjoy what the outdoors has to offer. Winter Fishing and introduction to the newest technology will give the parent and child a first look at ice fishing.
X-ALT-DESC;FMTTYPE=text/html:<br />\nCABELA&#39\;S KIDS ICE CAMP FEBRUARY 8TH\, 1:00 PM - 3:30 PM Free of charge\, open to all kids. . Each youth that attends the Kids Ice Camp will receive a free HT Enterprises Ice Rod and promotional items for their future ice fishing adventures. In class tutorial (Newaygo Middle School) 1:00pm - 2:00pm NAIFC Pro Staff will demonstration indoors in a classroom setting: Ice Safety\, Bait\, Equipment and Jigging. On Ice fishing (TBA) 2:00pm- 3:30 pm Parents must accompany their kids during the on ice portion of this event. The kids and parents will then be invited to fish with the NAIFC Pro Staff. &nbsp\;Equipment will be provided. This is an outdoor event\, please dress for the weather. This is an excellent opportunity to introduce a new way for kids to enjoy what the outdoors has to offer. Winter Fishing and introduction to the newest technology will give the parent and child a first look at ice fishing. &nbsp\;
LOCATION:Newaygo Middle School Cafeteria 850 76th Street Newaygo\, Michigan 49337
UID:e.1709.573
SEQUENCE:3
DTSTAMP:20260420T165101Z
URL:https://www.rivercountrychamber.com/events/details/cabela-s-kids-ice-camp-02-08-2014-573
END:VEVENT

END:VCALENDAR
