BEGIN:VCALENDAR
VERSION:2.0
PRODID:-//ChamberMaster//Event Calendar 2.0//EN
METHOD:PUBLISH
X-PUBLISHED-TTL:P3D
REFRESH-INTERVAL:P3D
CALSCALE:GREGORIAN
BEGIN:VEVENT
DTSTART:20140510T220000Z
DTEND:20140511T030000Z
X-MICROSOFT-CDO-ALLDAYEVENT:FALSE
SUMMARY:Cafe Spring Jazz Finale!
DESCRIPTION:The River Stop Cafe is pleased to welcome guitar virtuoso Carlos Menendez\, with percussionist Randy Marsh and Chris Kjorness on bass for our final jazz event of the winter/spring seasons!  Don't miss this last chance opportunty to experience world class musicright  here in Newaygo before the busy summer begins.
X-ALT-DESC;FMTTYPE=text/html:The River Stop Cafe is pleased to welcome guitar virtuoso Carlos Menendez\, with percussionist Randy Marsh and Chris Kjorness on bass for our final jazz event of the winter/spring seasons!&nbsp\; Don&#39\;t miss this last chance opportunty to experience world class musicright &nbsp\;here in Newaygo before the busy summer begins.
LOCATION:River Stop Caf 52 West State Street
UID:e.1709.879
SEQUENCE:3
DTSTAMP:20260420T142117Z
URL:https://www.rivercountrychamber.com/events/details/cafe-spring-jazz-finale-05-10-2014-879
END:VEVENT

END:VCALENDAR
