BEGIN:VCALENDAR
VERSION:2.0
PRODID:-//ChamberMaster//Event Calendar 2.0//EN
METHOD:PUBLISH
X-PUBLISHED-TTL:P3D
REFRESH-INTERVAL:P3D
CALSCALE:GREGORIAN
BEGIN:VEVENT
DTSTART:20140623T123000Z
DTEND:20140627T203000Z
X-MICROSOFT-CDO-ALLDAYEVENT:FALSE
SUMMARY:Camp Newaygo Co-Ed Day Camp ?What?s Cookin? ? or ?Circus Camp?
DESCRIPTION:Camp Newaygo Co-Ed Day Camp for boys and girls entering first through sixth grade in the fall of 2014. Day Camp runs each day from 8:30 am - 4:30 pm. Parents may drop off their campers at the TrueNorth Service Center\, located at 6308 S. Warner Ave.\, just south of Fremont between 7:45 am - 8:00 am. Parents may also drop off campers directly at Camp\, located at 5333 Centerline Rd. in Newaygo between 7:45 am - 8:15 am. Parents may pick up campers where they were dropped off in the morning at day's end at Camp from 4:30 pm - 5:15 pm or at the TrueNorth Service Center from 5:00 pm - 5:15 pm. There is an additional $20 per session fee\, for transportation from TrueNorth to Camp and back. Unless otherwise noted\, all sessions cost $135 per child for Newaygo County residents or $175 for non-county residents. Additional fees may apply as noted. For more information on any of Camp Newaygo's co-ed day camp options\, scholarship applications or to download registration forms\, please visit www.campnewaygo.org or call (231) 652-1184.\n\n\n\nDuring the What's Cookin' session\, campers will create\, bake\, and decorate in the kitchen and over the fire\, while in Circus Camp\, they will juggle\, balance\, and clown their week away at the Camp Newaygo Circus.
X-ALT-DESC;FMTTYPE=text/html:<span style="font-family:myriad pro\,sans-serif\;"><span style="font-size:12.0pt\;">Camp Newaygo Co-Ed Day Camp for boys and girls entering first through sixth grade in the fall of 2014. Day Camp runs each day from 8:30 am - 4:30 pm. Parents may drop off their campers at the TrueNorth Service Center\, located at 6308 S. Warner Ave.\, just south of Fremont between 7:45 am - 8:00 am. Parents may also drop off campers directly at Camp\, located at 5333 Centerline Rd. in Newaygo between 7:45 am - 8:15 am. Parents may pick up campers where they were dropped off in the morning at day&rsquo\;s end at Camp from 4:30 pm - 5:15 pm or at the TrueNorth Service Center from 5:00 pm - 5:15 pm. There is an additional $20 per session fee\, for transportation from TrueNorth to Camp and back. Unless otherwise noted\, all sessions cost $135 per child for Newaygo County residents or $175 for non-county residents. Additional fees may apply as noted. For more information on any of Camp Newaygo&rsquo\;s co-ed day camp options\, scholarship applications or to download registration forms\, please visit </span></span><a href="http://www.campnewaygo.org"><span style="font-family:myriad pro\,sans-serif\;"><span style="font-size:12.0pt\;">www.campnewaygo.org</span></span></a><span style="font-family:myriad pro\,sans-serif\;"><span style="font-size:12.0pt\;"> or call (231) 652-1184.<br />\n<br />\n<span style="font-family:myriad pro\,sans-serif\;"><span style="font-size:12.0pt\;">During the What&rsquo\;s Cookin&rsquo\; session\, campers will create\, bake\, and decorate in the kitchen and over the fire\, while in Circus Camp\, they will juggle\, balance\, and clown their week away at the Camp Newaygo Circus. </span></span></span></span><br />\n&nbsp\;
LOCATION:Camp Newaygo - 5333 Centerline Rd.\, Newaygo\, MI 49337
UID:e.1709.909
SEQUENCE:3
DTSTAMP:20260420T114905Z
URL:https://www.rivercountrychamber.com/events/details/camp-newaygo-co-ed-day-camp-what-s-cookin-or-circus-camp-06-23-2014-909
END:VEVENT

END:VCALENDAR
