BEGIN:VCALENDAR
VERSION:2.0
PRODID:-//ChamberMaster//Event Calendar 2.0//EN
METHOD:PUBLISH
X-PUBLISHED-TTL:P3D
REFRESH-INTERVAL:P3D
CALSCALE:GREGORIAN
BEGIN:VEVENT
DTSTART:20140801T010000Z
DTEND:20140801T030000Z
X-MICROSOFT-CDO-ALLDAYEVENT:FALSE
SUMMARY:Camping Fun!
DESCRIPTION:Camping Fun! \n\nMake your Camping Reservations Now!\n\nSaturday August 23rd\n\n\n	Glow stick people & parade\n	Kids Games\n	Community Campfire\n	Hot Dog & Marshmallow Roast\n\n\nAt dusk\, glow sticks will light up the park! Bring your kids\, chairs\, and guitars for music & singing fun!\n\nCall 231.689.1190 or make your reservations online at countyofnewaygo.com/parks
X-ALT-DESC;FMTTYPE=text/html:<span style="font-size: 16px"><strong><span style="font-family: comic sans ms">Camping Fun! </span></strong><br />\n<span style="font-family: comic sans ms">Make your Camping Reservations Now!<br />\nSaturday August 23rd</span></span>\n\n<ul>\n	<li><span style="font-size: 16px"><span style="font-family: comic sans ms">Glow stick people &amp\; parade</span></span></li>\n	<li><span style="font-size: 16px"><span style="font-family: comic sans ms">Kids Games</span></span></li>\n	<li><span style="font-size: 16px"><span style="font-family: comic sans ms">Community Campfire</span></span></li>\n	<li><span style="font-size: 16px"><span style="font-family: comic sans ms">Hot Dog &amp\; Marshmallow Roast</span></span></li>\n</ul>\n\n<p><span style="font-size: 16px"><span style="font-family: comic sans ms">At dusk\, glow sticks will light up the park! Bring your kids\, chairs\, and guitars for music &amp\; singing fun!<br />\nCall 231.689.1190 or make your reservations online at countyofnewaygo.com/parks</span></span></p>\n
LOCATION:Diamond Lake County Park 3351 Mundy Rd. White Cloud\, MI 49349
UID:e.1709.951
SEQUENCE:3
DTSTAMP:20260420T102944Z
URL:https://www.rivercountrychamber.com/events/details/camping-fun-07-31-2014-951
END:VEVENT

END:VCALENDAR
