BEGIN:VCALENDAR
VERSION:2.0
PRODID:-//ChamberMaster//Event Calendar 2.0//EN
METHOD:PUBLISH
X-PUBLISHED-TTL:P3D
REFRESH-INTERVAL:P3D
CALSCALE:GREGORIAN
BEGIN:VEVENT
DTSTART:20131216T140000Z
DTEND:20131219T220000Z
X-MICROSOFT-CDO-ALLDAYEVENT:FALSE
SUMMARY:Children's Christmas Programs
DESCRIPTION:Helping make Christmas dreams come true for children in need by providing warm hats\, mittens or gloves\, books\, art supplies\, toys\, and games for Low-income Newaygo County families in need. Apps may also be picked up at the TrueNorth Service Center or on-line at www.truenorthservices.org. Deadline for applications is Dec. 2.
X-ALT-DESC;FMTTYPE=text/html:Helping make Christmas dreams come true for children in need by providing warm hats\, mittens or gloves\, books\, art supplies\, toys\, and games for Low-income Newaygo County families in need. Apps may also be picked up at the TrueNorth Service Center or on-line at www.truenorthservices.org. Deadline for applications is Dec. 2.
LOCATION:TrueNorth\, 6308 S. Warner Ave. Fremont\, MI 49412
UID:e.1709.444
SEQUENCE:3
DTSTAMP:20260420T193818Z
URL:https://www.rivercountrychamber.com/events/details/children-s-christmas-programs-12-16-2013-444
END:VEVENT

END:VCALENDAR
