BEGIN:VCALENDAR
VERSION:2.0
PRODID:-//ChamberMaster//Event Calendar 2.0//EN
METHOD:PUBLISH
X-PUBLISHED-TTL:P3D
REFRESH-INTERVAL:P3D
CALSCALE:GREGORIAN
BEGIN:VEVENT
DTSTART:20131207T150000Z
DTEND:20131207T190000Z
X-MICROSOFT-CDO-ALLDAYEVENT:FALSE
SUMMARY:ChoiceOne Bank St. Nick Kick 5k/10k Run/Race & Walk
DESCRIPTION:READY...SET...GO!  The 2013 ChoiceOne Bank Saint Nick Kick 5k/10k Race 5k Walk is Saturday December 7. \n\n\n\nSame day registration is available for $30.00 at 9:00 am - 9:45 am under the ChoiceOne Bank Saint Nick Kick Tent (t-shirt and hat aren't guaranteed for same day registrations)\n\n\n\nEarly Registration price is $20.00 and includes a T-Shirt & Santa Hat\n\n\n\nRegister on line or Print Registration Form \n\n\n\n\n\nCLICK HERE FOR RACE RESULTS FROM 2012
X-ALT-DESC;FMTTYPE=text/html:<strong>READY...SET...GO!</strong>&nbsp\; The 2013 ChoiceOne Bank Saint Nick Kick 5k/10k Race 5k Walk is Saturday December 7.&nbsp\;<br />\n<br />\nSame day registration is available for $30.00 at 9:00 am - 9:45 am under the ChoiceOne Bank Saint Nick Kick Tent (t-shirt and hat aren&#39\;t guaranteed for same day registrations)<br />\n<br />\nEarly Registration price is $20.00 and includes a T-Shirt &amp\; Santa Hat<br />\n<br />\nRegister on line or<strong><span style="font-size: 14px\;"> <a href="http://cloud.chambermaster.com/userfiles/UserFiles/chambers/1709/File/St_Nick_Kick/snk2013registrationtrifold8.22.13.pdf">Print Registration Form&nbsp\;</a></span></strong><br />\n<br />\n<br />\n<strong><span style="font-size: 16px\;"><a href="http://cloud.chambermaster.com/userfiles/UserFiles/chambers/1709/File/St_Nick_Kick/2012St.NickKickRaceResults.PDF">CLICK HERE FOR RACE RESULTS FROM 2012</a></span></strong>
LOCATION:Map of Race Course Starting Line Shopko 91 West Pine lake Dr Newaygo\, MI 49337 Click on View Map for a copy of the race course
UID:e.1709.22
SEQUENCE:3
DTSTAMP:20260420T210108Z
URL:https://www.rivercountrychamber.com/events/details/choiceone-bank-st-nick-kick-5k-10k-run-race-walk-12-07-2013-22
END:VEVENT

END:VCALENDAR
