BEGIN:VCALENDAR
VERSION:2.0
PRODID:-//ChamberMaster//Event Calendar 2.0//EN
METHOD:PUBLISH
X-PUBLISHED-TTL:P3D
REFRESH-INTERVAL:P3D
CALSCALE:GREGORIAN
BEGIN:VEVENT
DTSTART:20211102T220000Z
DTEND:20211102T233000Z
X-MICROSOFT-CDO-ALLDAYEVENT:FALSE
SUMMARY:Christian Healthcare Centers Introduction
DESCRIPTION:You're Invited!\n\n\n\nChristian Healthcare Centers is holding multiple events to formally introduce CHC and CHC Specialists Newaygo. Learn why Christian Healthcare Centers is a proven\, affordable healthcare alternative for your business and your family.
X-ALT-DESC;FMTTYPE=text/html:<span style="font-size:16px\;"><em>You&#39\;re Invited!</em><br />\n<br />\nChristian Healthcare Centers is holding multiple events to formally introduce CHC and CHC Specialists Newaygo.&nbsp\;Learn why Christian Healthcare Centers is a proven\, affordable healthcare alternative for your business and your family.&nbsp\;</span>
LOCATION:The Stream 1 State Road Newaygo\, MI 49337 Plenty of parking in the back lot off Wood St Take the elevators or stairs to the 2nd Floor Conference Room is to the Right
UID:e.1709.38587
SEQUENCE:3
DTSTAMP:20260424T153754Z
URL:https://www.rivercountrychamber.com/events/details/christian-healthcare-centers-introduction-38587
END:VEVENT

END:VCALENDAR
