BEGIN:VCALENDAR
VERSION:2.0
PRODID:-//ChamberMaster//Event Calendar 2.0//EN
METHOD:PUBLISH
X-PUBLISHED-TTL:P3D
REFRESH-INTERVAL:P3D
CALSCALE:GREGORIAN
BEGIN:VEVENT
DTSTART:20131221T223000Z
DTEND:20131222T003000Z
X-MICROSOFT-CDO-ALLDAYEVENT:FALSE
SUMMARY:Christmas Caroling in Croton
DESCRIPTION:Come and join us for an evening of Christmas Carols.. meet at the Croton Trinity Church at 5:30 pm
X-ALT-DESC;FMTTYPE=text/html:<br />\nCome and join us for an evening of Christmas Carols.. meet at the Croton Trinity Church at 5:30 pm
LOCATION:Croton Trinity Church
UID:e.1709.555
SEQUENCE:3
DTSTAMP:20260420T194019Z
URL:https://www.rivercountrychamber.com/events/details/christmas-caroling-in-croton-12-21-2013-555
END:VEVENT

END:VCALENDAR
