BEGIN:VCALENDAR
VERSION:2.0
PRODID:-//ChamberMaster//Event Calendar 2.0//EN
METHOD:PUBLISH
X-PUBLISHED-TTL:P3D
REFRESH-INTERVAL:P3D
CALSCALE:GREGORIAN
BEGIN:VEVENT
DTSTART:20211224T140000Z
DTEND:20211224T200000Z
X-MICROSOFT-CDO-ALLDAYEVENT:FALSE
SUMMARY:Christmas Eve Last Minute Gifts at SHB Gifts & Decor
DESCRIPTION:Grab your last minute gifts at SHB Gifts & Decor!\n\n\n\nVisit our website https://shb-gifts-decor.business.site/
X-ALT-DESC;FMTTYPE=text/html:Grab your last minute gifts at SHB Gifts &amp\; Decor!<br />\n<br />\nVisit our website&nbsp\;<a href="https://shb-gifts-decor.business.site/">https://shb-gifts-decor.business.site/</a>
LOCATION:11 West Main Street Fremont\, MI 49412
UID:e.1709.38631
SEQUENCE:3
DTSTAMP:20260424T130137Z
URL:https://www.rivercountrychamber.com/events/details/christmas-eve-last-minute-gifts-at-shb-gifts-decor-38631
END:VEVENT

END:VCALENDAR
