BEGIN:VCALENDAR
VERSION:2.0
PRODID:-//ChamberMaster//Event Calendar 2.0//EN
METHOD:PUBLISH
X-PUBLISHED-TTL:P3D
REFRESH-INTERVAL:P3D
CALSCALE:GREGORIAN
BEGIN:VEVENT
DTSTART:20131123T140000Z
DTEND:20131123T220000Z
X-MICROSOFT-CDO-ALLDAYEVENT:FALSE
SUMMARY:CHRISTMAS OPEN HOUSE
DESCRIPTION:25% Off ALL Gifts\n\n	$3 Off Asst. Russell Stover Candy\n\n	Mason Vitamins - Buy 1\, Get 1 FREE\n\n	Buy 3 Cards\, Get 1 FREE\n\n	FREE Candle with $50 Purchase\n\n	50% Off Fall & Thanksgiving\n\n	Many more in store sales. \n\n	\n\n	Enter to Win a $50 Gift Card\n\n	FREE Gift to 1st 100 Customers\n\n	Enjoy refreashments whie you shop!
X-ALT-DESC;FMTTYPE=text/html:<div style="text-align: center\;">\n	<br />\n	<font face="comic sans ms">25% Off ALL Gifts<br />\n	$3 Off Asst. Russell Stover Candy<br />\n	Mason Vitamins - Buy 1\, Get 1 FREE<br />\n	Buy 3 Cards\, Get 1 FREE<br />\n	FREE Candle with $50 Purchase<br />\n	50% Off Fall &amp\; Thanksgiving<br />\n	Many more in store sales.&nbsp\;<br />\n	<br />\n	Enter to Win a $50 Gift Card<br />\n	FREE Gift to 1st 100 Customers<br />\n	Enjoy refreashments whie you shop!<br />\n	&nbsp\;</font></div>\n
LOCATION:HomeTown Pharmacy 226 w. River Valley Dr. Newaygo\, MI 49337
UID:e.1709.514
SEQUENCE:3
DTSTAMP:20260420T205615Z
URL:https://www.rivercountrychamber.com/events/details/christmas-open-house-11-23-2013-514
END:VEVENT

END:VCALENDAR
