BEGIN:VCALENDAR
VERSION:2.0
PRODID:-//ChamberMaster//Event Calendar 2.0//EN
METHOD:PUBLISH
X-PUBLISHED-TTL:P3D
REFRESH-INTERVAL:P3D
CALSCALE:GREGORIAN
BEGIN:VEVENT
DTSTART:20131206T230000Z
DTEND:20131207T020000Z
X-MICROSOFT-CDO-ALLDAYEVENT:FALSE
SUMMARY:Christmas Photo Booth at the Newaygo County Museum and Heritage Center
DESCRIPTION:The museum will host a fun\, fancy Christmas photo booth for family and friends.  A professional photographer will take delightful pictures of you and your group with props which you choose from our generous array.  Want to look like Santa?  How about a cute little elf?  Glasses?  A mustache? Top hat?  And many more.  Remember this holiday season forever with a snazzy photo taken at the Newaygo County Museum!!
X-ALT-DESC;FMTTYPE=text/html:The museum will host a fun\, fancy Christmas photo booth for family and friends. &nbsp\;A professional photographer will take delightful pictures of you and your group with props which you choose from our generous array. &nbsp\;Want to look like Santa? &nbsp\;How about a cute little elf? &nbsp\;Glasses? &nbsp\;A mustache? Top hat? &nbsp\;And many more. &nbsp\;Remember this holiday season forever with a snazzy photo taken at the Newaygo County Museum!! &nbsp\;
LOCATION:12 Quarterline\, across from Brooks Park in downtown Newaygo.
UID:e.1709.498
SEQUENCE:3
DTSTAMP:20260420T194358Z
URL:https://www.rivercountrychamber.com/events/details/christmas-photo-booth-at-the-newaygo-county-museum-and-heritage-center-12-06-2013-498
END:VEVENT

END:VCALENDAR
