BEGIN:VCALENDAR
VERSION:2.0
PRODID:-//ChamberMaster//Event Calendar 2.0//EN
METHOD:PUBLISH
X-PUBLISHED-TTL:P3D
REFRESH-INTERVAL:P3D
CALSCALE:GREGORIAN
BEGIN:VEVENT
DTSTART;VALUE=DATE:20140505
DTEND;VALUE=DATE:20140506
TRANSP:TRANSPARENT
X-MICROSOFT-CDO-ALLDAYEVENT:TRUE
SUMMARY:Cindo de Mayo Latitudes & Steelheads
DESCRIPTION:COME CELEBRATE WITH OUR AUTHENTIC MEXICAN DISHES TO CHOOSE FROM:\n\n\n\nCHILE RELLENO'S AS AN APPETIZER\n\n\n\nSTEAK or CHICKEN FAJITAS\n\n\n\nJUMBO TEXAS SHRIMP FAJITAS\n\n\n\nPORK CARNITA BURRITOS & TACOS\n\n\n\nTRADITIONALBURRITOS\n\n\n\nPOLLO FUNDIDO\n\n\n\nWALLEYE VERA CRUZ\n\n\n\nplus: Spanish Rice\, Refried Beans\, Pico de Gallo\, Hot or Mild Salsa
X-ALT-DESC;FMTTYPE=text/html:<p>COME CELEBRATE WITH OUR AUTHENTIC MEXICAN DISHES TO CHOOSE FROM:<br />\n<br />\nCHILE RELLENO&#39\;S AS AN APPETIZER<br />\n<br />\nSTEAK or CHICKEN FAJITAS<br />\n<br />\nJUMBO TEXAS SHRIMP FAJITAS<br />\n<br />\nPORK CARNITA BURRITOS &amp\; TACOS<br />\n<br />\nTRADITIONALBURRITOS<br />\n<br />\nPOLLO FUNDIDO<br />\n<br />\nWALLEYE VERA CRUZ<br />\n<br />\nplus: Spanish Rice\, Refried Beans\, Pico de Gallo\, Hot or Mild Salsa</p>\n
LOCATION:101 E. Edgerton\, Howard City MI 49329 (231)937-7056
UID:e.1709.890
SEQUENCE:3
DTSTAMP:20260420T130444Z
URL:https://www.rivercountrychamber.com/events/details/cindo-de-mayo-latitudes-steelheads-05-05-2014-890
END:VEVENT

END:VCALENDAR
