BEGIN:VCALENDAR
VERSION:2.0
PRODID:-//ChamberMaster//Event Calendar 2.0//EN
METHOD:PUBLISH
X-PUBLISHED-TTL:P3D
REFRESH-INTERVAL:P3D
CALSCALE:GREGORIAN
BEGIN:VEVENT
DTSTART:20131109T140000Z
DTEND:20131109T170000Z
X-MICROSOFT-CDO-ALLDAYEVENT:FALSE
SUMMARY:Coats for Kids (& Adults)
DESCRIPTION:Collection boxes will be out during the month of October\, and all the coats will be sorted\, and then distributed on Nov. 9. Any child or adult who resides or attends school in Newaygo County may participate. There is no registration required\, but parents / guardians will be required to show I.D. and each person in the household receiving a coat must be present. Whatever coats are left over after that will be available to the general public from Nov. 10 through the end of the month\, or as long as they last. Questions on Coats for Kids (and Adults) should be directed to Nettie Uplinger at 924-0641\, ext. 116 or nuplinger@truenorthservices.org.
X-ALT-DESC;FMTTYPE=text/html:Collection boxes will be out during the month of October\, and all the coats will be sorted\, and then distributed on Nov. 9. Any child or adult who resides or attends school in Newaygo County may participate. There is no registration required\, but parents / guardians will be required to show I.D. and each person in the household receiving a coat must be present. Whatever coats are left over after that will be available to the general public from Nov. 10 through the end of the month\, or as long as they last. Questions on Coats for Kids (and Adults) should be directed to Nettie Uplinger at 924-0641\, ext. 116 or nuplinger@truenorthservices.org. 
LOCATION:TrueNorth - 6308 S. Warner Ave. Fremont\, MI 49412
UID:e.1709.429
SEQUENCE:3
DTSTAMP:20260420T205808Z
URL:https://www.rivercountrychamber.com/events/details/coats-for-kids-adults-11-09-2013-429
END:VEVENT

END:VCALENDAR
