BEGIN:VCALENDAR
VERSION:2.0
PRODID:-//ChamberMaster//Event Calendar 2.0//EN
METHOD:PUBLISH
X-PUBLISHED-TTL:P3D
REFRESH-INTERVAL:P3D
CALSCALE:GREGORIAN
BEGIN:VEVENT
DTSTART:20131025T000000Z
DTEND:20131025T020000Z
X-MICROSOFT-CDO-ALLDAYEVENT:FALSE
SUMMARY:Comedy Show at Sportsman's Bar
DESCRIPTION:This month's comedy should be a great one! It features the hilarious Dave Dyer along with Adam Degi\n\n	Dave Dyer   has done comedy around the Midwest for the last 8 years and has opened for Drew Carey\, Louie Anderso and Louis Black. He has written material for ABC's Politically Incorrect. His humor exposes the everyday happenings that we all experience\, but rarely take note of. throw in some perspective on current events and a little bit of edge and you come up with a brand of humor that has made him a popular act in clubs and American Legion Halls everywhere. \n\n	\n\n	It's Thirsty Thursday with $3 Margaritas PLUS All You Can Eat Shrimp for $9.99.  Tickets are $8 in advance and $10 at the door. Call 321-652-7072 to reserve your tickets today!
X-ALT-DESC;FMTTYPE=text/html:<h1 style="text-align: justify\;">\n	This month&#39\;s comedy should be a great one! It features the hilarious Dave Dyer&nbsp\;along with&nbsp\;Adam Degi</h1>\n<h1 style="text-align: justify\;">\n	Dave Dyer<span style="font-size: 12px\;"><span style="font-family: comic sans ms\;">&nbsp\;<span style="font-size: 14px\;">&nbsp\; has done comedy around the Midwest for the last 8 years and has opened for Drew Carey\, Louie Anderso and Louis Black. He has written material for ABC&#39\;s Politically Incorrect. His humor exposes the everyday happenings that we all experience\, but rarely take note of. throw in some perspective on current events and a little bit of edge and you come up with a brand of humor that has made him a&nbsp\;popular act in clubs and American Legion Halls everywhere. </span></span></span></h1>\n<h1 style="text-align: justify\;">\n	<br />\n	<span style="font-size: 12px\;"><span style="font-family: comic sans ms\;"><span style="font-size: 14px\;">It&#39\;s Thirsty Thursday with $3 Margaritas PLUS All You Can Eat Shrimp for $9.99.&nbsp\; Tickets are $8 in advance and $10 at the door. Call 321-652-7072 to reserve your tickets today!</span></span></span></h1>\n
LOCATION:30 State St Downtown Newaygo
UID:e.1709.445
SEQUENCE:3
DTSTAMP:20260420T221746Z
URL:https://www.rivercountrychamber.com/events/details/comedy-show-at-sportsman-s-bar-10-24-2013-445
END:VEVENT

END:VCALENDAR
