BEGIN:VCALENDAR
VERSION:2.0
PRODID:-//ChamberMaster//Event Calendar 2.0//EN
METHOD:PUBLISH
X-PUBLISHED-TTL:P3D
REFRESH-INTERVAL:P3D
CALSCALE:GREGORIAN
BEGIN:VEVENT
DTSTART:20130815T190000Z
DTEND:20130815T230000Z
X-MICROSOFT-CDO-ALLDAYEVENT:FALSE
SUMMARY:Community Fresh Fest
DESCRIPTION:We're having a free event all about fresh produce and healthy eating. And you're invited! Enjoy a late afternoon event that's all about fresh food\, grown locally.  Purchase community-grown\, and prepared\, fresh foods and flowers. ? Learn how you and your family can implement a healthier lifestyle. ? Get involved in interactive demos on grilling fruits and veggies. ? Refresh your knowledge with Canning 101. ? Learn the techniques of\, and differences between\, dicing\, chopping or mincing. ? Sample delicious fresh foods. ? Pick up new recipes. For more information\, call 231.924.1865.
X-ALT-DESC;FMTTYPE=text/html:We&#39\;re having a free event all about fresh produce and healthy eating. And you&#39\;re invited! Enjoy a late afternoon event that&#39\;s all about fresh food\, grown locally. &nbsp\;Purchase community-grown\, and prepared\, fresh foods and flowers. ? Learn how you and your family can implement a healthier lifestyle. ? Get involved in interactive demos on grilling fruits and veggies. ? Refresh your knowledge with Canning 101. ? Learn the techniques of\, and differences between\, dicing\, chopping or mincing. ? Sample delicious fresh foods. ? Pick up new recipes. For more information\, call 231.924.1865.
LOCATION:Tamarac\, The Center for Health and Well-Being 1401 W. Main Street Fremont\, MI 49412
UID:e.1709.271
SEQUENCE:3
DTSTAMP:20260421T005210Z
URL:https://www.rivercountrychamber.com/events/details/community-fresh-fest-08-15-2013-271
END:VEVENT

END:VCALENDAR
