BEGIN:VCALENDAR
VERSION:2.0
PRODID:-//ChamberMaster//Event Calendar 2.0//EN
METHOD:PUBLISH
X-PUBLISHED-TTL:P3D
REFRESH-INTERVAL:P3D
CALSCALE:GREGORIAN
BEGIN:VEVENT
DTSTART:20130529T220000Z
DTEND:20130530T000000Z
X-MICROSOFT-CDO-ALLDAYEVENT:FALSE
SUMMARY:Complete Streets Community Forum
DESCRIPTION:Join us for a community conversation about Complete Streets in West Michigan. A panel of experts will discuss the purpose of Complete Streets\, how Complete Streets can help your community\, and ways to make Complete Streets work locally. Snacks and beverages will be provided. What are Complete Streets? Complete Streets are streets designed and operated to enable safe access for all users including pedestrians\, bicyclists\, motorists\, and public transportation users of all ages and abilities.
X-ALT-DESC;FMTTYPE=text/html:Join us for a community conversation about Complete Streets in West Michigan. A panel of experts will discuss the purpose of Complete Streets\, how Complete Streets can help your community\, and ways to make Complete Streets work locally. Snacks and beverages will be provided. What are Complete Streets? Complete Streets are streets designed and operated to enable safe access for all users including pedestrians\, bicyclists\, motorists\, and public transportation users of all ages and abilities.
LOCATION:United Way of the Lakeshore 31 E. Clay Avenue Muskegon\, MI 49443
UID:e.1709.50
SEQUENCE:3
DTSTAMP:20260421T043144Z
URL:https://www.rivercountrychamber.com/events/details/complete-streets-community-forum-05-29-2013-50
END:VEVENT

END:VCALENDAR
