BEGIN:VCALENDAR
VERSION:2.0
PRODID:-//ChamberMaster//Event Calendar 2.0//EN
METHOD:PUBLISH
X-PUBLISHED-TTL:P3D
REFRESH-INTERVAL:P3D
CALSCALE:GREGORIAN
BEGIN:VEVENT
DTSTART:20140222T210000Z
DTEND:20140223T010000Z
X-MICROSOFT-CDO-ALLDAYEVENT:FALSE
SUMMARY:Cooking Basics at Gala Gourmet
DESCRIPTION:Saturday\, February 22: Cooking Basics. Several people have been requesting a class on basic skills. In this class we will touch briefly on knife skills\, how to read recipes\, how to measure\, basic terminology\, how to make great soups\, your own healthy vinaigrette (no more bottled dressing!)\, a pasta meal in 20 minutes\, Easy-Peasy Shrimp Scampi\, and Roasted Turkey Breast that we will turn into a total of 3 different meals. Class begins at 4 PM
X-ALT-DESC;FMTTYPE=text/html:<span style="color: rgb(51\, 51\, 51)\; font-family: 'lucida grande'\, tahoma\, verdana\, arial\, sans-serif\; font-size: 13px\; line-height: 18px\;">Saturday\, February 22: Cooking Basics. Several people have been requesting a class on basic skills. In this class we will touch briefly on knife skills\, how to read recipes\, how to measure\, basic terminology\, how to make great soups\, your own healthy vinaigrette (no more bottled dressing!)\, a pasta meal in 20 minutes\, Easy-Peasy Shrimp Scampi\, and Roasted Turkey Breast that we will turn into a total of 3 different meals. Class begins at 4 PM</span>
LOCATION:Gala Gourmet Kitchen Shoppe
UID:e.1709.587
SEQUENCE:3
DTSTAMP:20260420T165135Z
URL:https://www.rivercountrychamber.com/events/details/cooking-basics-at-gala-gourmet-02-22-2014-587
END:VEVENT

END:VCALENDAR
