BEGIN:VCALENDAR
VERSION:2.0
PRODID:-//ChamberMaster//Event Calendar 2.0//EN
METHOD:PUBLISH
X-PUBLISHED-TTL:P3D
REFRESH-INTERVAL:P3D
CALSCALE:GREGORIAN
BEGIN:VEVENT
DTSTART:20131206T160000Z
DTEND:20131207T180000Z
X-MICROSOFT-CDO-ALLDAYEVENT:FALSE
SUMMARY:Croton Friends of the Library Book Sale
DESCRIPTION:Just in time for the holidays! Friends of the Croton Township Library are hosting a Holiday Book Sale December 6 and 7\, during normal library hours.\n\n\n\nGet books for holiday presents or just to curl and up read during those wintry days that are sure to come!!!\n\n\n\nAll proceeds will benefit the Friends of the Croton Township Library.
X-ALT-DESC;FMTTYPE=text/html:<br />\nJust in time for the holidays! Friends of the Croton Township Library are hosting a Holiday Book Sale December 6 and 7\, during normal library hours.<br />\n<br />\nGet books for holiday presents or just to curl and up read during those wintry days that are sure to come!!!<br />\n<br />\nAll proceeds will benefit the Friends of the Croton Township Library.
LOCATION:Croton Township Library 8260 S Croton Hardy Dr Newaygo\, MI 49337
UID:e.1709.485
SEQUENCE:3
DTSTAMP:20260420T194400Z
URL:https://www.rivercountrychamber.com/events/details/croton-friends-of-the-library-book-sale-12-06-2013-485
END:VEVENT

END:VCALENDAR
