BEGIN:VCALENDAR
VERSION:2.0
PRODID:-//ChamberMaster//Event Calendar 2.0//EN
METHOD:PUBLISH
X-PUBLISHED-TTL:P3D
REFRESH-INTERVAL:P3D
CALSCALE:GREGORIAN
BEGIN:VEVENT
DTSTART:20130707T020000Z
DTEND:20130707T023000Z
X-MICROSOFT-CDO-ALLDAYEVENT:FALSE
SUMMARY:Croton Township Fireworks
DESCRIPTION:Help make this year's fireworks the best ever!  We have hired a great fireworks company for this year's 4th of July Celebration and we are told it will be fabulous!!!!\n\n\n\nWe need your support before June 1\, please send your donation to:  \n\n\n\nNewaygo County 4th of July Celebration\n\n7074 68th St\n\nNewaygo\, MI 49337\n\n\n\nIf you have any questions please call:\n\n\n\nChris Ortwein\, Fireworks Committee Board Member \n\nat 616-437-3884\n\n\n\n\n\nPLEASE PASS THIS ON TO A FRIEND!  WE NEED SUPPORT!
X-ALT-DESC;FMTTYPE=text/html:Help make this year&#39\;s fireworks the best ever! &nbsp\;We have hired a great fireworks company for this year&#39\;s 4th of July Celebration and we are told it will be fabulous!!!!<br />\n<br />\nWe need your support before June 1\, please send your donation to: &nbsp\;<br />\n<br />\nNewaygo County 4th of July Celebration<br />\n7074 68th St<br />\nNewaygo\, MI 49337<br />\n<br />\nIf you have any questions please call:<br />\n<br />\nChris&nbsp\;Ortwein\, Fireworks Committee Board Member&nbsp\;<br />\nat 616-437-3884<br />\n<br />\n<br />\n<strong><em>PLEASE PASS THIS ON TO A FRIEND! &nbsp\;WE NEED SUPPORT!</em></strong>
LOCATION:Croton Township
UID:e.1709.52
SEQUENCE:3
DTSTAMP:20260421T020633Z
URL:https://www.rivercountrychamber.com/events/details/croton-township-fireworks-07-06-2013-52
END:VEVENT

END:VCALENDAR
