BEGIN:VCALENDAR
VERSION:2.0
PRODID:-//ChamberMaster//Event Calendar 2.0//EN
METHOD:PUBLISH
X-PUBLISHED-TTL:P3D
REFRESH-INTERVAL:P3D
CALSCALE:GREGORIAN
BEGIN:VEVENT
DTSTART:20140215T110000Z
DTEND:20140215T203000Z
X-MICROSOFT-CDO-ALLDAYEVENT:FALSE
SUMMARY:Dam to Dam Ice Fishing Contest
DESCRIPTION:8th Annual Dam to Dam Ice Fishing  \n\n\n\nOver the years we have had a great time on the ice starting with fishing at sun up\, the national anthem\, music\, golf\, fish camera's show what is under your feet as well as contests for the Best Looking Hat and Shanty.  \n\n\n\nWe have had John Leinenkugel here for a year and absolutely enjoyed our hospitality and the event that all of you have helped to grow.  \n\n\n\nThe first 100 children that are registered by stop by Croton Bay Trading Post to visit with the Nesquick Bunny and receive a free fishing pole.  \n\n\n\nBrought to you by Leinenkugel\, WLAV\, Croton Bay Trading Post and the River Country Chamber of Commerce\n\n\n\nAll proceeds go to Big Brother and Sisters of Newaygo Country thru TrueNorth
X-ALT-DESC;FMTTYPE=text/html:<span style="font-family:comic sans ms\;"><span style="font-size:20px\;">8th Annual Dam to Dam Ice Fishing &nbsp\;</span></span><br />\n<br />\nOver the years we have had a great time on the ice starting with fishing at sun up\, the national anthem\, music\, golf\, fish camera&#39\;s show what is under your feet as well as contests for the Best Looking Hat and Shanty. &nbsp\;<br />\n<br />\nWe have had John&nbsp\;Leinenkugel here for a year and absolutely enjoyed our hospitality and the event that all of you have helped to grow. &nbsp\;<br />\n<br />\nThe first 100 children that are registered by stop by Croton Bay Trading Post to visit with the Nesquick Bunny and receive a free fishing pole. &nbsp\;<br />\n<br />\n<span style="font-size:16px\;"><span style="font-family:comic sans ms\;">Brought to you by Leinenkugel\, WLAV\,&nbsp\;Croton Bay Trading Post and the River Country Chamber of Commerce</span></span><br />\n<br />\nAll proceeds go to Big Brother and Sisters of Newaygo Country thru TrueNorth<br />\n<br />\n
LOCATION:Fishing on both Croton and Hardy Ponds. Parking is available in the Campground as well as along the roadside.
UID:e.1709.561
SEQUENCE:3
DTSTAMP:20260420T165535Z
URL:https://www.rivercountrychamber.com/events/details/dam-to-dam-ice-fishing-contest-02-15-2014-561
END:VEVENT

END:VCALENDAR
