BEGIN:VCALENDAR
VERSION:2.0
PRODID:-//ChamberMaster//Event Calendar 2.0//EN
METHOD:PUBLISH
X-PUBLISHED-TTL:P3D
REFRESH-INTERVAL:P3D
CALSCALE:GREGORIAN
BEGIN:VEVENT
DTSTART:20230622T150000Z
DTEND:20230622T160000Z
X-MICROSOFT-CDO-ALLDAYEVENT:FALSE
SUMMARY:Dance for Kindness - Summer Reading Event
DESCRIPTION:KIDS & FAMILIES - \n\n\n\nJoin us for a modern dance program that promotes kindness and friendship by combining music\, dance\, and audience participation!\n\n\n\nWould you like to be notified by text of Newaygo Library events?\n\nSign up for our events reminder program! "Remind" will send out a text and email about events going on at Newaygo Library. To sign up\, go to: remind.com/join/44kk72 or Text SIGNUP to 616-432-2161\n\n\n\n** We will be meeting outside in Brooks Park. Please look to the website or our Facebook page\, for inclement weather updates.\n\n\n\n* Summer Reading Program EVENT\n\n\n\nThis event is made possible in part by a grant from the Fremont Area Community Foundation\, Private Donors\, and the generosity of many local businesses.\n\n\n\nWould you like to be notified by text of Newaygo Library events?\n\nSign up for our events reminder program! "Remind" will send out a text and email about events going on at Newaygo Library. To sign up\, go to: remind.com/join/44kk72 or Text SIGNUP to 616-432-2161
X-ALT-DESC;FMTTYPE=text/html:<div>\n<div>\n<div>\n<div>\n<div>\n<p><span style="color:rgb(60\, 64\, 67)\; font-family:roboto\,arial\,sans-serif\; font-size:14px">KIDS &amp\; FAMILIES -&nbsp\;</span><br />\n<br />\n<span style="color:rgb(60\, 64\, 67)\; font-family:roboto\,arial\,sans-serif\; font-size:14px">Join us for a modern dance program that promotes kindness and friendship by combining music\, dance\, and audience participation!</span><br />\n<br />\n<span style="color:rgb(60\, 64\, 67)\; font-family:roboto\,arial\,sans-serif\; font-size:14px">Would you like to be notified by text of Newaygo Library events?</span><br />\n<span style="color:rgb(60\, 64\, 67)\; font-family:roboto\,arial\,sans-serif\; font-size:14px">Sign up for our events reminder program! &quot\;Remind&quot\; will send out a text and email about events going on at Newaygo Library. To sign up\, go to:&nbsp\;</span><a href="https://www.google.com/url?q=http://remind.com/join/44kk72&amp\;sa=D&amp\;source=calendar&amp\;usd=2&amp\;usg=AOvVaw25MmL2xpnrdw9FZc_UhwSK" style="color: var(--primary)\; font-family: Roboto\, Arial\, sans-serif\; font-size: 14px\; letter-spacing: 0.2px\; white-space-collapse: preserve\;" target="_blank"><u><u><u><u>remind.com/join/44kk72</u></u></u></u></a><span style="color:rgb(60\, 64\, 67)\; font-family:roboto\,arial\,sans-serif\; font-size:14px">&nbsp\;or Text SIGNUP to 616-432-2161</span><br />\n<br />\n<strong>** We will be meeting outside in Brooks Park. Please look to the website or our Facebook page\, for inclement weather updates.</strong><br />\n<br />\n<strong>* Summer Reading Program EVENT</strong><br />\n<br />\n<span style="color:rgb(60\, 64\, 67)\; font-family:roboto\,arial\,sans-serif\; font-size:14px">This event is made possible in part by a grant from the Fremont Area Community Foundation\, Private Donors\, and the generosity of many local businesses.</span><br />\n<br />\n<span style="color:rgb(60\, 64\, 67)\; font-family:roboto\,arial\,sans-serif\; font-size:14px">Would you like to be notified by text of Newaygo Library events?</span><br />\n<span style="color:rgb(60\, 64\, 67)\; font-family:roboto\,arial\,sans-serif\; font-size:14px">Sign up for our events reminder program! &quot\;Remind&quot\; will send out a text and email about events going on at Newaygo Library. To sign up\, go to:&nbsp\;</span><a href="https://www.google.com/url?q=http://remind.com/join/44kk72&amp\;sa=D&amp\;source=calendar&amp\;usd=2&amp\;usg=AOvVaw25MmL2xpnrdw9FZc_UhwSK" style="color: var(--primary)\; font-family: Roboto\, Arial\, sans-serif\; font-size: 14px\; letter-spacing: 0.2px\; white-space-collapse: preserve\;" target="_blank"><u><u><u><u><u><u>remind.com/join/44kk72</u></u></u></u></u></u></a><span style="color:rgb(60\, 64\, 67)\; font-family:roboto\,arial\,sans-serif\; font-size:14px">&nbsp\;or Text SIGNUP to 616-432-2161</span></p>\n</div>\n</div>\n</div>\n</div>\n</div>\n\n<div style="text-align:right">&nbsp\;</div>\n
LOCATION:Brooks Park\, Newaygo MI
UID:e.1709.41116
SEQUENCE:3
DTSTAMP:20260421T134428Z
URL:https://www.rivercountrychamber.com/events/details/dance-for-kindness-summer-reading-event-41116
END:VEVENT

END:VCALENDAR
