BEGIN:VCALENDAR
VERSION:2.0
PRODID:-//ChamberMaster//Event Calendar 2.0//EN
METHOD:PUBLISH
X-PUBLISHED-TTL:P3D
REFRESH-INTERVAL:P3D
CALSCALE:GREGORIAN
BEGIN:VEVENT
DTSTART:20140222T150000Z
DTEND:20140222T190000Z
X-MICROSOFT-CDO-ALLDAYEVENT:FALSE
SUMMARY:Day Of Dance
DESCRIPTION:10th Annual Day of Dance! Dance your way to better health. Take FREE dance lessons in many styles of dancing. FREE health screenings and great snacks! Take a walk through the MEGA Heart! Bring your family\, friends and dancing shoes to Celebrate good health\, come on!
X-ALT-DESC;FMTTYPE=text/html:10th Annual Day of Dance! Dance your way to better health. Take FREE dance lessons in many styles of dancing. FREE health screenings and great snacks! Take a walk through the MEGA Heart! Bring your family\, friends and dancing shoes to Celebrate good health\, come on! 
LOCATION:Newaygo Middle School 850 76th St.
UID:e.1709.582
SEQUENCE:3
DTSTAMP:20260420T165131Z
URL:https://www.rivercountrychamber.com/events/details/day-of-dance-02-22-2014-582
END:VEVENT

END:VCALENDAR
