BEGIN:VCALENDAR
VERSION:2.0
PRODID:-//ChamberMaster//Event Calendar 2.0//EN
METHOD:PUBLISH
X-PUBLISHED-TTL:P3D
REFRESH-INTERVAL:P3D
CALSCALE:GREGORIAN
BEGIN:VEVENT
DTSTART:20211211T153000Z
DTEND:20211211T173000Z
X-MICROSOFT-CDO-ALLDAYEVENT:FALSE
SUMMARY:Newaygo Library December WaterColor Class
DESCRIPTION:Children's Illustrator and local artist Lori Eslick is back with another FREE Watercolor Class!\n\n\n\nSpace is limited.\n\n\n\nRSVP here: WaterColor Class or call the Library @ 231-652-6723 to Register.\n\n\n \n\nThese adult opportunities are supported by the Michigan Council for Arts and Cultural Affairs Minigrant Program\, administered by LowellArts.\n\n \n\nWould you like a reminder for this event? Sign up for our events reminder program! "Remind" will send out a text and email about events going on at Newaygo Library. To sign up\, go to: remind.com/join/44kk72.
X-ALT-DESC;FMTTYPE=text/html:<div>Children&rsquo\;s Illustrator and local artist Lori Eslick is back with another FREE Watercolor Class!</div>\n\n<div><br />\n<strong>Space is limited.</strong></div>\n\n<div><br />\nRSVP here:&nbsp\;<a href="https://tinyurl.com/nadl-DEC-watercolor"><strong><span style="color:#008000">WaterColor Class</span></strong></a>&nbsp\;or call the Library @ 231-652-6723 to Register.</div>\n\n<div>\n<div>&nbsp\;</div>\n\n<div>These adult opportunities are supported by the Michigan Council for Arts and Cultural Affairs Minigrant Program\, administered by LowellArts.<br />\n&nbsp\;</div>\n\n<div>Would you like a reminder for this event? Sign up for our events reminder program! &quot\;Remind&quot\; will send out a text and email about events going on at Newaygo Library. To sign up\, go to:&nbsp\;<a class="oajrlxb2 g5ia77u1 qu0x051f esr5mh6w e9989ue4 r7d6kgcz rq0escxv nhd2j8a9 nc684nl6 p7hjln8o kvgmc6g5 cxmmr5t8 oygrvhab hcukyx3x jb3vyjys rz4wbd8a qt6c0cv9 a8nywdso i1ao9s8h esuyzwwr f1sip0of lzcic4wl py34i1dx gpro0wi8" href="https://l.facebook.com/l.php?u=http%3A%2F%2Fremind.com%2Fjoin%2F44kk72%3Ffbclid%3DIwAR0Oe6oA4wDgPlaI6SMnqN-2bbsLR8Pp0PxZmtPDioQEa3UPPj0vmNltb6U&amp\;h=AT2ErZzgnU5hT2BC6leZM-Zo86GQj4kvx-GsHbAkuhUxnhyvqOJxD1HLAxzOXcOagENSdRcijB8P21mW-8cQSI5sd1Dq-dIAr9qe9NtOcrCpVMgRkt2eFx1gIxPihKFhgA&amp\;__tn__=q&amp\;c[0]=AT1or9eUbpOP4uPKW506k2hxYGSWpcTFHNKFe2kb2AkErGc9cU3YCDAutQ4du9fp619Xo5tHZ1HjSVLjKz5gapkbVgqg5ZzPPQd-T2huGQdhnDcqO9BWvMKA4Kva_vEqbUDwRppMblavWKT7Na67fi6iPxncbNhCOTAm_eqGKjA2uNM" rel="nofollow noopener" style="color: var(--blue-link)\; cursor: pointer\; text-decoration-line: none\; outline: none\; list-style: none\; border-width: 0px\; border-style: initial\; border-color: initial\; padding: 0px\; margin: 0px\; touch-action: manipulation\; background-color: transparent\; text-align: inherit\; display: inline\; -webkit-tap-highlight-color: transparent\; box-sizing: border-box\; font-family: inherit\;" tabindex="0" target="_blank">remind.com/join/44kk72</a>.</div>\n</div>\n
LOCATION:Newaygo Area District Library - Conference Room
UID:e.1709.38625
SEQUENCE:3
DTSTAMP:20260424T125750Z
URL:https://www.rivercountrychamber.com/events/details/december-watercolor-class-38625
END:VEVENT

END:VCALENDAR
