BEGIN:VCALENDAR
VERSION:2.0
PRODID:-//ChamberMaster//Event Calendar 2.0//EN
METHOD:PUBLISH
X-PUBLISHED-TTL:P3D
REFRESH-INTERVAL:P3D
CALSCALE:GREGORIAN
BEGIN:VEVENT
DTSTART;VALUE=DATE:20260518
DTEND;VALUE=DATE:20260524
TRANSP:TRANSPARENT
X-MICROSOFT-CDO-ALLDAYEVENT:TRUE
SUMMARY:Drop In Mosaic Window Clings for Tweens and Teens
DESCRIPTION:Attention Tweens and Teens ages 10 - 18: Drop in anytime during the week of May 18th thru May 23rd to complete a Mosaic Window Cling.\n\n\n\nLet your creativity shine with a unique design!\n\n\n\nLocated downstairs in the Children's Library\, while supplies last.\n\n\n\nThis activity is being sponsored by the Michigan Arts and Culture Council.
X-ALT-DESC;FMTTYPE=text/html:Attention Tweens and Teens ages 10 - 18: Drop in anytime during the week of May 18th thru May 23rd to complete a Mosaic Window Cling.<br />\n<br />\nLet your creativity shine with a unique design!<br />\n<br />\nLocated downstairs in the Children&#39\;s Library\, while supplies last.<br />\n<br />\n<strong>This activity is being sponsored by the Michigan Arts and Culture Council.</strong>
LOCATION:Newaygo Area District Library 44 N. State Rd. Newaygo\, MI 49337
UID:e.1709.43177
SEQUENCE:3
DTSTAMP:20260426T032525Z
URL:https://www.rivercountrychamber.com/events/details/drop-in-mosaic-window-clings-for-tweens-and-teens-43177
END:VEVENT

END:VCALENDAR
