BEGIN:VCALENDAR
VERSION:2.0
PRODID:-//ChamberMaster//Event Calendar 2.0//EN
METHOD:PUBLISH
X-PUBLISHED-TTL:P3D
REFRESH-INTERVAL:P3D
CALSCALE:GREGORIAN
BEGIN:VEVENT
DTSTART:20131003T153000Z
DTEND:20131003T173000Z
X-MICROSOFT-CDO-ALLDAYEVENT:FALSE
SUMMARY:Empty Bowls
DESCRIPTION:Be a part of alleviating hunger in Newaygo County by attending one of the 14th Annual TrueNorth Empty Bowls Luncheons\, on Thurs.\, Oct. 3 at TrueNorth in Fremont\; or Fri.\, Oct. 4 at the C.O.A. in White Cloud. The luncheons\, which include an all-you-can-eat homemade soup buffet\, with bread\, dessert and beverages\, run from 11:30 AM ? 1:30 PM each day. Local middle school and high school art students\, as well as concerned citizens have made and/or decorated bowls\, and each guest will be allowed to choose a bowl as theirs to keep\, reminding them that there are always ?empty bowls? somewhere in Newaygo County. Tickets are $20.00 each or a table of eight for $150.00 and are available now at TrueNorth. You may also order over the phone by contacting Darci David at 924-0641\, ext. 111 or via e-mail at darcid@truenorthservices.org. Tickets will also be available at the door.
X-ALT-DESC;FMTTYPE=text/html:Be a part of alleviating hunger in Newaygo County by attending one of the 14th Annual TrueNorth Empty Bowls Luncheons\, on Thurs.\, Oct. 3 at TrueNorth in Fremont\; or Fri.\, Oct. 4 at the C.O.A. in White Cloud. The luncheons\, which include an all-you-can-eat homemade soup buffet\, with bread\, dessert and beverages\, run from 11:30 AM ? 1:30 PM each day. Local middle school and high school art students\, as well as concerned citizens have made and/or decorated bowls\, and each guest will be allowed to choose a bowl as theirs to keep\, reminding them that there are always ?empty bowls? somewhere in Newaygo County. Tickets are $20.00 each or a table of eight for $150.00 and are available now at TrueNorth. You may also order over the phone by contacting Darci David at 924-0641\, ext. 111 or via e-mail at <a href="mailto:darcid@truenorthservices.org?subject=EMPTY%20BOWLS">darcid@truenorthservices.org</a>. Tickets will also be available at the door. 
LOCATION:Thursday October 3 The TrueNorth Service Center located at 6308 S. Warner Ave.\, Fremont MI 49412 Friday October 4 C.O.A. White Cloud
UID:e.1709.427
SEQUENCE:3
DTSTAMP:20260420T221326Z
URL:https://www.rivercountrychamber.com/events/details/empty-bowls-10-03-2013-427
END:VEVENT

END:VCALENDAR
