BEGIN:VCALENDAR
VERSION:2.0
PRODID:-//ChamberMaster//Event Calendar 2.0//EN
METHOD:PUBLISH
X-PUBLISHED-TTL:P3D
REFRESH-INTERVAL:P3D
CALSCALE:GREGORIAN
BEGIN:VEVENT
DTSTART;VALUE=DATE:20140209
DTEND;VALUE=DATE:20140210
TRANSP:TRANSPARENT
X-MICROSOFT-CDO-ALLDAYEVENT:TRUE
SUMMARY:Euchre Tournament at Old Iron Bar & Grill
DESCRIPTION:Come celebrate the 2014 Dam Good Winterfest  with us at Old Iron Bar & Grill.  We will be holding a Euchre Tournament\n\n\n\nSign up at Old Iron prior to event or sign up between 11:30-12:30 day of the event
X-ALT-DESC;FMTTYPE=text/html:Come celebrate the 2014 Dam Good&nbsp\;Winterfest&nbsp\; with us at Old Iron Bar &amp\; Grill. &nbsp\;We will be holding a Euchre Tournament<br />\n<br />\nSign up at Old Iron prior to event or sign up between 11:30-12:30 day of the event
LOCATION:Old Iron Bar & Grill
UID:e.1709.580
SEQUENCE:3
DTSTAMP:20260420T165329Z
URL:https://www.rivercountrychamber.com/events/details/euchre-tournament-at-old-iron-bar-grill-02-09-2014-580
END:VEVENT

END:VCALENDAR
