BEGIN:VCALENDAR
VERSION:2.0
PRODID:-//ChamberMaster//Event Calendar 2.0//EN
METHOD:PUBLISH
X-PUBLISHED-TTL:P3D
REFRESH-INTERVAL:P3D
CALSCALE:GREGORIAN
BEGIN:VEVENT
DTSTART;VALUE=DATE:20140408
DTEND;VALUE=DATE:20140409
TRANSP:TRANSPARENT
X-MICROSOFT-CDO-ALLDAYEVENT:TRUE
SUMMARY:Event at Old Iron Bar & Grill
DESCRIPTION:Euchre Tournament 6:30
X-ALT-DESC;FMTTYPE=text/html:Euchre Tournament 6:30
LOCATION:Old Iron Bar & Grill
UID:e.1709.861
SEQUENCE:3
DTSTAMP:20260420T142252Z
URL:https://www.rivercountrychamber.com/events/details/event-at-old-iron-bar-grill-04-08-2014-861
END:VEVENT

END:VCALENDAR
