BEGIN:VCALENDAR
VERSION:2.0
PRODID:-//ChamberMaster//Event Calendar 2.0//EN
METHOD:PUBLISH
X-PUBLISHED-TTL:P3D
REFRESH-INTERVAL:P3D
CALSCALE:GREGORIAN
BEGIN:VEVENT
DTSTART:20130926T121500Z
DTEND:20130926T141500Z
X-MICROSOFT-CDO-ALLDAYEVENT:FALSE
SUMMARY:Events Committee Meeting
DESCRIPTION:First meeting of the Events Committee for the newly formed River Country Chamber of Newaygo County.   To be held at the Stream on Thursday September 26 at 8:15 am - 10:15 am\n\n	Topics to be discussed the 2014 calendar of events for all districts\n	Review process for future events\n\nSuggested participation of 2 members from each district and they DO NOT have to be Board Members.  If you have someone interested in being on this committee please forward this email to them and have them JOIN GROUP
X-ALT-DESC;FMTTYPE=text/html:<br />\nFirst meeting of the Events Committee for the newly formed River Country Chamber of Newaygo County. &nbsp\; To be held at the Stream on Thursday September 26 at 8:15 am - 10:15 am\n<ul>\n	<li>Topics to be discussed the 2014 calendar of events for all districts</li>\n	<li>Review process for future events</li>\n</ul>\nSuggested participation of 2 members from each district and they DO NOT have to be Board Members. &nbsp\;If you have someone interested in being on this committee please forward this email to them and have them <a href="mailto:info@newaygonaturally.com?subject=Yes%2C%20I%20want%20to%20Join%20the%20Event%20Committee">JOIN GROUP</a><br />\n<br />\n&nbsp\;
LOCATION:the Stream - Conference Room
UID:e.1709.298
SEQUENCE:3
DTSTAMP:20260420T233625Z
URL:https://www.rivercountrychamber.com/events/details/events-committee-meeting-09-26-2013-298
END:VEVENT

END:VCALENDAR
